{"text_format":"1","workbook":"xlsx","n_sheets":2,"sheets":["Formulario","Hoja2"],"not_rendered":{"charts":0,"images":2,"macros":1,"external_links":0,"defined_names":0,"comments":0,"pivot_tables":0},"unopened":[],"bounds":{"document_bytes":16777216,"sheet_cells":100000,"rows_first":2000,"rows_last":500,"rows_between":2000,"halvings":0,"cell_chars":16384,"cell_head_chars":4096},"cells_cut":0,"cells_raw":0,"read":"whole","date_system":"1900"}

{"sheet":"Formulario","index":0,"n_rows":41,"n_cols":12,"rows_kept":41,"cut":false,"hidden":false,"merged":[[10,4,12,9]]}
[]
[null,null,null,null,null,null,null,null,"Si",null,null,"Consumo"]
[null,null,null,null,null,null,null,null,"No",null,null,"Libre Destino"]
[null,null,null,null,null,null,null,null,null,null,null,"Rotativo"]
[null,null,null,null,null,null,null,null,null,null,null,"Vehículo"]
[]
[]
[]
[null,null,null,null,"Valor Total Unificado (VTU)"]
[]
[null,null,null,null,"~ Para ayudarte a tomar la decisión correcta, aquí encuentras el Valor Total Unificado de cada uno de los productos que deseas adquirir con nosotros.\n~ Los valores aquí presentados corresponden a una proyección, por tanto no necesariamente corresponden a lo valores que va a pagar por la totalidad de su producto"]
[]
[]
[]
[null,null,null,null,"Ingresa los datos para tu simulación"]
[]
[null,null,null,null,"Tipo de Crédito","Vehículo"]
[null,null,null,null,"Valor a Financiar",40000000]
[null,null,null,null,"Tasa de Colocación mv (%)",8.0000000000000002E-3]
[null,null,null,null,"Plazo en meses",36]
[null,null,null,null,"Seguro de Vida","Si"]
[null,null,null,null,"Seguro de Desempleo","No"]
[]
[]
[]
[]
[null,null,null,null,"Resultado para tu simulación"]
[]
[null,null,null,null,"VTU en pesos",null,null,"VTU en puntos porcentuales (E.A %)"]
[]
[null,null,null,null,"Capital",{"$f":"F18","v":40000000},null,"Intereses (E.A)",{"$f":"(1+($F$19))^12-1","v":0.10033869371614701}]
[null,null,null,null,"Intereses",{"$f":"Hoja2!$I$2","v":6194790.53523893},null,"Intereses + Seg Vida (E.A)",{"$f":"(1+Hoja2!$D$2)^12-1","v":0.12882012622251104}]
[null,null,null,null,"Seguro de Vida",{"$f":"IF(F21=\"Si\",($F$18)*$F$20*0.122%,0)","v":1756800},null,"Intereses + Seg Vida + Desemp.(E.A)",{"$f":"IF(F22=\"No\",\"\",Hoja2!E1)","v":""}]
[null,null,null,null,"Seguro de Desempleo",{"$f":"IF(F22=\"No\",0,(F38+F39+F40)*12*5.5811%)","v":0}]
[]
[null,null,null,null,"VTU Actual",{"$f":"SUM(F31:F34)","v":47951590.535238929},null,"VTU Actual ( E.A)",{"$f":"IF(F22=\"No\",I32,I33)","v":0.12882012622251104}]
[]
[null,null,null,null,"Cuota Vehiculo",{"$f":"PMT($F$19,$F$20,-$F$18)","v":1283188.6259788591}]
[null,null,null,null,"Cuota Seguro Todo Riesgo",{"$f":"PMT($F$19,$F$20,-$F$24)","v":0}]
[null,null,null,null,"Cuota Seguro Vida",{"$f":"PMT($F$19,$F$20,-$F$33)","v":56357.644452991495}]
[null,null,null,null,"Cuota Protección Financiera",{"$f":"PMT($F$19,$F$20,-$F$34)","v":0}]

{"sheet":"Hoja2","index":1,"n_rows":104,"n_cols":22,"rows_kept":104,"cut":false,"hidden":true,"merged":[]}
[null,null,null,{"$f":"(1+D2)^12-1","v":0.12882012622251104},{"$f":"(1+E2)^12-1","v":0.12882012622251104}]
[null,null,null,{"$f":"IRR(D4:D1048576)","v":1.0148900201400357E-2},{"$f":"IRR(E4:E1048576)","v":1.0148900201400357E-2},null,null,null,{"$f":"SUM(I4:I104)","v":6194790.53523893},null,null,null,{"$f":"SUM(M4:M104)","v":0},null,null,null,{"$f":"SUM(Q4:Q104)","v":272075.20030769386},null,null,null,{"$f":"SUM(U4:U104)","v":0}]
[null,"No",null,"Auto + Seg Vida","Auto + Seg Vida + Desem",null,"Cuota Auto","Capital","Interes","Abono Capital","Seguro Auto","Capital","Interes","Abono Capital","Seguro Vida","Capital","Interes","Abono Capital","Seguro Protección","Capital","Interes","Abono Capital"]
[null,0,null,{"$f":"H4","v":40000000},{"$f":"H4","v":40000000},null,null,{"$f":"Formulario!$F$18","v":40000000},null,null,null,{"$f":"Formulario!$F$24","v":0},null,null,null,{"$f":"Formulario!$F$33","v":1756800},null,null,null,{"$f":"Formulario!$F$34","v":0}]
[null,{"$f":"B4+1","v":1},null,{"$f":"-(G5+IF(B5>Formulario!$F$20,0,($P$4/Formulario!$F$20)))","v":-1331988.6259788591},{"$f":"-IF(B5>Formulario!$F$20,0,(G5+($P$4/Formulario!$F$20)+Formulario!$F$34/12))","v":-1331988.6259788591},null,{"$f":"IF(B5>Formulario!$F$20,0,PMT((Formulario!$F$19),Formulario!$F$20,-Formulario!$F$18))","v":1283188.6259788591},{"$f":"+H4-J5","v":39036811.374021143},{"$f":"H4*Formulario!$F$19","v":320000},{"$f":"+G5-I5","v":963188.62597885914},{"$f":"IF(B5>Formulario!$F$20,0,PMT((Formulario!$F$19),Formulario!$F$20,-Formulario!$F$24))","v":0},{"$f":"+L4-N5","v":0},{"$f":"L4*Formulario!$F$19","v":0},{"$f":"+K5-M5","v":0},{"$f":"IF(B5>Formulario!$F$20,0,PMT((Formulario!$F$19),Formulario!$F$20,-Formulario!$F$33))","v":56357.644452991495},{"$f":"+P4-R5","v":1714496.7555470085},{"$f":"P4*Formulario!$F$19","v":14054.4},{"$f":"+O5-Q5","v":42303.244452991494},{"$f":"IF(B5>Formulario!$F$20,0,PMT((Formulario!$F$19),Formulario!$F$20,-Formulario!$F$34))","v":0},{"$f":"+T4-V5","v":0},{"$f":"T4*Formulario!$F$19","v":0},{"$f":"IF($B$39=\"Prima Mes\",0,S5-U5)","v":0}]
[null,{"$f":"B5+1","v":2},null,{"$f":"-(G6+IF(B6>Formulario!$F$20,0,($P$4/Formulario!$F$20)))","v":-1331988.6259788591},{"$f":"-IF(B6>Formulario!$F$20,0,(G6+($P$4/Formulario!$F$20)+Formulario!$F$34/12))","v":-1331988.6259788591},null,{"$f":"IF(B6>Formulario!$F$20,0,PMT((Formulario!$F$19),Formulario!$F$20,-Formulario!$F$18))","v":1283188.6259788591},{"$f":"+H5-J6","v":38065917.239034452},{"$f":"H5*Formulario!$F$19","v":312294.49099216913},{"$f":"+G6-I6","v":970894.13498669001},{"$f":"IF(B6>Formulario!$F$20,0,PMT((Formulario!$F$19),Formulario!$F$20,-Formulario!$F$24))","v":0},{"$f":"+L5-N6","v":0},{"$f":"L5*Formulario!$F$19","v":0},{"$f":"+K6-M6","v":0},{"$f":"IF(B6>Formulario!$F$20,0,PMT((Formulario!$F$19),Formulario!$F$20,-Formulario!$F$33))","v":56357.644452991495},1671855.0851383931,{"$f":"P5*Formulario!$F$19","v":13715.974044376067},{"$f":"+O6-Q6","v":42641.670408615428},{"$f":"IF(B6>Formulario!$F$20,0,PMT((Formulario!$F$19),Formulario!$F$20,-Formulario!$F$34))","v":0},{"$f":"IF(B6>$B$16,0,IF($B$39=\"Prima Mes\",0,IF($B$39=\"Prima Anual\",IF(AND(B6<12,OR(B6=0,B6=12,B6=24,B6=36,B6=48,B6=60,B6=72)),$B$41,T5-V6),IF(B6=0,$B$41,T5-V6))))","v":0},{"$f":"T5*Formulario!$F$19","v":0},0]
[null,3,null,{"$f":"-(G7+IF(B7>Formulario!$F$20,0,($P$4/Formulario!$F$20)))","v":-1331988.6259788591},{"$f":"-IF(B7>Formulario!$F$20,0,(G7+($P$4/Formulario!$F$20)+Formulario!$F$34/12))","v":-1331988.6259788591},null,{"$f":"IF(B7>Formulario!$F$20,0,PMT((Formulario!$F$19),Formulario!$F$20,-Formulario!$F$18))","v":1283188.6259788591},37087255.950967871,{"$f":"H6*Formulario!$F$19","v":304527.33791227563},978661.28806658345,{"$f":"IF(B7>Formulario!$F$20,0,PMT((Formulario!$F$19),Formulario!$F$20,-Formulario!$F$24))","v":0},0,{"$f":"L6*Formulario!$F$19","v":0},0,{"$f":"IF(B7>Formulario!$F$20,0,PMT((Formulario!$F$19),Formulario!$F$20,-Formulario!$F$33))","v":56357.644452991495},1628872.2813665087,{"$f":"P6*Formulario!$F$19","v":13374.840681107145},42982.803771884348,{"$f":"IF(B7>Formulario!$F$20,0,PMT((Formulario!$F$19),Formulario!$F$20,-Formulario!$F$34))","v":0},0,{"$f":"T6*Formulario!$F$19","v":0},0]
[null,4,null,{"$f":"-(G8+IF(B8>Formulario!$F$20,0,($P$4/Formulario!$F$20)))","v":-1331988.6259788591},{"$f":"-IF(B8>Formulario!$F$20,0,(G8+($P$4/Formulario!$F$20)+Formulario!$F$34/12))","v":-1331988.6259788591},null,{"$f":"IF(B8>Formulario!$F$20,0,PMT((Formulario!$F$19),Formulario!$F$20,-Formulario!$F$18))","v":1283188.6259788591},36100765.372596756,{"$f":"H7*Formulario!$F$19","v":296698.04760774295},986490.57837111619,{"$f":"IF(B8>Formulario!$F$20,0,PMT((Formulario!$F$19),Formulario!$F$20,-Formulario!$F$24))","v":0},0,{"$f":"L7*Formulario!$F$19","v":0},0,{"$f":"IF(B8>Formulario!$F$20,0,PMT((Formulario!$F$19),Formulario!$F$20,-Formulario!$F$33))","v":56357.644452991495},1585545.6151644492,{"$f":"P7*Formulario!$F$19","v":13030.97825093207},43326.666202059423,{"$f":"IF(B8>Formulario!$F$20,0,PMT((Formulario!$F$19),Formulario!$F$20,-Formulario!$F$34))","v":0},0,{"$f":"T7*Formulario!$F$19","v":0},0]
[null,5,null,{"$f":"-(G9+IF(B9>Formulario!$F$20,0,($P$4/Formulario!$F$20)))","v":-1331988.6259788591},{"$f":"-IF(B9>Formulario!$F$20,0,(G9+($P$4/Formulario!$F$20)+Formulario!$F$34/12))","v":-1331988.6259788591},null,{"$f":"IF(B9>Formulario!$F$20,0,PMT((Formulario!$F$19),Formulario!$F$20,-Formulario!$F$18))","v":1283188.6259788591},35106382.869598672,{"$f":"H8*Formulario!$F$19","v":288806.12298077403},994382.50299808511,{"$f":"IF(B9>Formulario!$F$20,0,PMT((Formulario!$F$19),Formulario!$F$20,-Formulario!$F$24))","v":0},0,{"$f":"L8*Formulario!$F$19","v":0},0,{"$f":"IF(B9>Formulario!$F$20,0,PMT((Formulario!$F$19),Formulario!$F$20,-Formulario!$F$33))","v":56357.644452991495},1541872.3356327733,{"$f":"P8*Formulario!$F$19","v":12684.364921315593},43673.2795316759,{"$f":"IF(B9>Formulario!$F$20,0,PMT((Formulario!$F$19),Formulario!$F$20,-Formulario!$F$34))","v":0},0,{"$f":"T8*Formulario!$F$19","v":0},0]
[null,6,null,{"$f":"-(G10+IF(B10>Formulario!$F$20,0,($P$4/Formulario!$F$20)))","v":-1331988.6259788591},{"$f":"-IF(B10>Formulario!$F$20,0,(G10+($P$4/Formulario!$F$20)+Formulario!$F$34/12))","v":-1331988.6259788591},null,{"$f":"IF(B10>Formulario!$F$20,0,PMT((Formulario!$F$19),Formulario!$F$20,-Formulario!$F$18))","v":1283188.6259788591},34104045.306576602,{"$f":"H9*Formulario!$F$19","v":280851.06295678939},1002337.5630220697,{"$f":"IF(B10>Formulario!$F$20,0,PMT((Formulario!$F$19),Formulario!$F$20,-Formulario!$F$24))","v":0},0,{"$f":"L9*Formulario!$F$19","v":0},0,{"$f":"IF(B10>Formulario!$F$20,0,PMT((Formulario!$F$19),Formulario!$F$20,-Formulario!$F$33))","v":56357.644452991495},1497849.6698648441,{"$f":"P9*Formulario!$F$19","v":12334.978685062188},44022.665767929306,{"$f":"IF(B10>Formulario!$F$20,0,PMT((Formulario!$F$19),Formulario!$F$20,-Formulario!$F$34))","v":0},0,{"$f":"T9*Formulario!$F$19","v":0},0]
[null,7,null,{"$f":"-(G11+IF(B11>Formulario!$F$20,0,($P$4/Formulario!$F$20)))","v":-1331988.6259788591},{"$f":"-IF(B11>Formulario!$F$20,0,(G11+($P$4/Formulario!$F$20)+Formulario!$F$34/12))","v":-1331988.6259788591},null,{"$f":"IF(B11>Formulario!$F$20,0,PMT((Formulario!$F$19),Formulario!$F$20,-Formulario!$F$18))","v":1283188.6259788591},33093689.043050356,{"$f":"H10*Formulario!$F$19","v":272832.36245261284},1010356.2635262463,{"$f":"IF(B11>Formulario!$F$20,0,PMT((Formulario!$F$19),Formulario!$F$20,-Formulario!$F$24))","v":0},0,{"$f":"L10*Formulario!$F$19","v":0},0,{"$f":"IF(B11>Formulario!$F$20,0,PMT((Formulario!$F$19),Formulario!$F$20,-Formulario!$F$33))","v":56357.644452991495},1453474.8227707713,{"$f":"P10*Formulario!$F$19","v":11982.797358918753},44374.847094072742,{"$f":"IF(B11>Formulario!$F$20,0,PMT((Formulario!$F$19),Formulario!$F$20,-Formulario!$F$34))","v":0},0,{"$f":"T10*Formulario!$F$19","v":0},0]
[null,8,null,{"$f":"-(G12+IF(B12>Formulario!$F$20,0,($P$4/Formulario!$F$20)))","v":-1331988.6259788591},{"$f":"-IF(B12>Formulario!$F$20,0,(G12+($P$4/Formulario!$F$20)+Formulario!$F$34/12))","v":-1331988.6259788591},null,{"$f":"IF(B12>Formulario!$F$20,0,PMT((Formulario!$F$19),Formulario!$F$20,-Formulario!$F$18))","v":1283188.6259788591},32075249.9294159,{"$f":"H11*Formulario!$F$19","v":264749.51234440284},1018439.1136344563,{"$f":"IF(B12>Formulario!$F$20,0,PMT((Formulario!$F$19),Formulario!$F$20,-Formulario!$F$24))","v":0},0,{"$f":"L11*Formulario!$F$19","v":0},0,{"$f":"IF(B12>Formulario!$F$20,0,PMT((Formulario!$F$19),Formulario!$F$20,-Formulario!$F$33))","v":56357.644452991495},1408744.9768999461,{"$f":"P11*Formulario!$F$19","v":11627.798582166171},44729.845870825324,{"$f":"IF(B12>Formulario!$F$20,0,PMT((Formulario!$F$19),Formulario!$F$20,-Formulario!$F$34))","v":0},0,{"$f":"T11*Formulario!$F$19","v":0},0]
[null,9,null,{"$f":"-(G13+IF(B13>Formulario!$F$20,0,($P$4/Formulario!$F$20)))","v":-1331988.6259788591},{"$f":"-IF(B13>Formulario!$F$20,0,(G13+($P$4/Formulario!$F$20)+Formulario!$F$34/12))","v":-1331988.6259788591},null,{"$f":"IF(B13>Formulario!$F$20,0,PMT((Formulario!$F$19),Formulario!$F$20,-Formulario!$F$18))","v":1283188.6259788591},31048663.302872367,{"$f":"H12*Formulario!$F$19","v":256601.99943532722},1026586.6265435319,{"$f":"IF(B13>Formulario!$F$20,0,PMT((Formulario!$F$19),Formulario!$F$20,-Formulario!$F$24))","v":0},0,{"$f":"L12*Formulario!$F$19","v":0},0,{"$f":"IF(B13>Formulario!$F$20,0,PMT((Formulario!$F$19),Formulario!$F$20,-Formulario!$F$33))","v":56357.644452991495},1363657.2922621542,{"$f":"P12*Formulario!$F$19","v":11269.959815199569},45087.684637791928,{"$f":"IF(B13>Formulario!$F$20,0,PMT((Formulario!$F$19),Formulario!$F$20,-Formulario!$F$34))","v":0},0,{"$f":"T12*Formulario!$F$19","v":0},0]
[null,10,null,{"$f":"-(G14+IF(B14>Formulario!$F$20,0,($P$4/Formulario!$F$20)))","v":-1331988.6259788591},{"$f":"-IF(B14>Formulario!$F$20,0,(G14+($P$4/Formulario!$F$20)+Formulario!$F$34/12))","v":-1331988.6259788591},null,{"$f":"IF(B14>Formulario!$F$20,0,PMT((Formulario!$F$19),Formulario!$F$20,-Formulario!$F$18))","v":1283188.6259788591},30013863.983316489,{"$f":"H13*Formulario!$F$19","v":248389.30642297893},1034799.3195558803,{"$f":"IF(B14>Formulario!$F$20,0,PMT((Formulario!$F$19),Formulario!$F$20,-Formulario!$F$24))","v":0},0,{"$f":"L13*Formulario!$F$19","v":0},0,{"$f":"IF(B14>Formulario!$F$20,0,PMT((Formulario!$F$19),Formulario!$F$20,-Formulario!$F$33))","v":56357.644452991495},1318208.90614726,{"$f":"P13*Formulario!$F$19","v":10909.258338097234},45448.38611489426,{"$f":"IF(B14>Formulario!$F$20,0,PMT((Formulario!$F$19),Formulario!$F$20,-Formulario!$F$34))","v":0},0,{"$f":"T13*Formulario!$F$19","v":0},0]
[null,11,null,{"$f":"-(G15+IF(B15>Formulario!$F$20,0,($P$4/Formulario!$F$20)))","v":-1331988.6259788591},{"$f":"-IF(B15>Formulario!$F$20,0,(G15+($P$4/Formulario!$F$20)+Formulario!$F$34/12))","v":-1331988.6259788591},null,{"$f":"IF(B15>Formulario!$F$20,0,PMT((Formulario!$F$19),Formulario!$F$20,-Formulario!$F$18))","v":1283188.6259788591},28970786.269204162,{"$f":"H14*Formulario!$F$19","v":240110.91186653191},1043077.7141123272,{"$f":"IF(B15>Formulario!$F$20,0,PMT((Formulario!$F$19),Formulario!$F$20,-Formulario!$F$24))","v":0},0,{"$f":"L14*Formulario!$F$19","v":0},0,{"$f":"IF(B15>Formulario!$F$20,0,PMT((Formulario!$F$19),Formulario!$F$20,-Formulario!$F$33))","v":56357.644452991495},1272396.9329434466,{"$f":"P14*Formulario!$F$19","v":10545.67124917808},45811.973203813417,{"$f":"IF(B15>Formulario!$F$20,0,PMT((Formulario!$F$19),Formulario!$F$20,-Formulario!$F$34))","v":0},0,{"$f":"T14*Formulario!$F$19","v":0},0]
[null,12,null,{"$f":"-(G16+IF(B16>Formulario!$F$20,0,($P$4/Formulario!$F$20)))","v":-1331988.6259788591},{"$f":"-IF(B16>Formulario!$F$20,0,(G16+($P$4/Formulario!$F$20)+Formulario!$F$34/12))","v":-1331988.6259788591},null,{"$f":"IF(B16>Formulario!$F$20,0,PMT((Formulario!$F$19),Formulario!$F$20,-Formulario!$F$18))","v":1283188.6259788591},27919363.933378935,{"$f":"H15*Formulario!$F$19","v":231766.29015363331},1051422.3358252258,{"$f":"IF(B16>Formulario!$F$20,0,PMT((Formulario!$F$19),Formulario!$F$20,-Formulario!$F$24))","v":0},0,{"$f":"L15*Formulario!$F$19","v":0},0,{"$f":"IF(B16>Formulario!$F$20,0,PMT((Formulario!$F$19),Formulario!$F$20,-Formulario!$F$33))","v":56357.644452991495},1226218.4639540026,{"$f":"P15*Formulario!$F$19","v":10179.175463547574},46178.468989443922,{"$f":"IF(B16>Formulario!$F$20,0,PMT((Formulario!$F$19),Formulario!$F$20,-Formulario!$F$34))","v":0},0,{"$f":"T15*Formulario!$F$19","v":0},0]
[null,13,null,{"$f":"-(G17+IF(B17>Formulario!$F$20,0,($P$4/Formulario!$F$20)))","v":-1331988.6259788591},{"$f":"-IF(B17>Formulario!$F$20,0,(G17+($P$4/Formulario!$F$20)))","v":-1331988.6259788591},null,{"$f":"IF(B17>Formulario!$F$20,0,PMT((Formulario!$F$19),Formulario!$F$20,-Formulario!$F$18))","v":1283188.6259788591},26859530.218867108,{"$f":"H16*Formulario!$F$19","v":223354.91146703149},1059833.7145118276,{"$f":"IF(B17>Formulario!$F$20,0,PMT((Formulario!$F$19),Formulario!$F$20,-Formulario!$F$24))","v":0},0,{"$f":"L16*Formulario!$F$19","v":0},0,{"$f":"IF(B17>Formulario!$F$20,0,PMT((Formulario!$F$19),Formulario!$F$20,-Formulario!$F$33))","v":56357.644452991495},1179670.5672126431,{"$f":"P16*Formulario!$F$19","v":9809.7477116320206},46547.896741359473,{"$f":"IF(B17>Formulario!$F$20,0,PMT((Formulario!$F$19),Formulario!$F$20,-Formulario!$F$34))","v":0},0,{"$f":"T16*Formulario!$F$19","v":0},0]
[null,14,null,{"$f":"-(G18+IF(B18>Formulario!$F$20,0,($P$4/Formulario!$F$20)))","v":-1331988.6259788591},{"$f":"-IF(B18>Formulario!$F$20,0,(G18+($P$4/Formulario!$F$20)))","v":-1331988.6259788591},null,{"$f":"IF(B18>Formulario!$F$20,0,PMT((Formulario!$F$19),Formulario!$F$20,-Formulario!$F$18))","v":1283188.6259788591},25791217.834639184,{"$f":"H17*Formulario!$F$19","v":214876.24175093687},1068312.3842279222,{"$f":"IF(B18>Formulario!$F$20,0,PMT((Formulario!$F$19),Formulario!$F$20,-Formulario!$F$24))","v":0},0,{"$f":"L17*Formulario!$F$19","v":0},0,{"$f":"IF(B18>Formulario!$F$20,0,PMT((Formulario!$F$19),Formulario!$F$20,-Formulario!$F$33))","v":56357.644452991495},1132750.2872973527,{"$f":"P17*Formulario!$F$19","v":9437.3645377011453},46920.279915290346,{"$f":"IF(B18>Formulario!$F$20,0,PMT((Formulario!$F$19),Formulario!$F$20,-Formulario!$F$34))","v":0},0,{"$f":"T17*Formulario!$F$19","v":0},0]
[null,15,null,{"$f":"-(G19+IF(B19>Formulario!$F$20,0,($P$4/Formulario!$F$20)))","v":-1331988.6259788591},{"$f":"-IF(B19>Formulario!$F$20,0,(G19+($P$4/Formulario!$F$20)))","v":-1331988.6259788591},null,{"$f":"IF(B19>Formulario!$F$20,0,PMT((Formulario!$F$19),Formulario!$F$20,-Formulario!$F$18))","v":1283188.6259788591},24714358.951337438,{"$f":"H18*Formulario!$F$19","v":206329.74267711348},1076858.8833017456,{"$f":"IF(B19>Formulario!$F$20,0,PMT((Formulario!$F$19),Formulario!$F$20,-Formulario!$F$24))","v":0},0,{"$f":"L18*Formulario!$F$19","v":0},0,{"$f":"IF(B19>Formulario!$F$20,0,PMT((Formulario!$F$19),Formulario!$F$20,-Formulario!$F$33))","v":56357.644452991495},1085454.6451427401,{"$f":"P18*Formulario!$F$19","v":9062.0022983788222},47295.642154612673,{"$f":"IF(B19>Formulario!$F$20,0,PMT((Formulario!$F$19),Formulario!$F$20,-Formulario!$F$34))","v":0},0,{"$f":"T18*Formulario!$F$19","v":0},0]
[null,16,null,{"$f":"-(G20+IF(B20>Formulario!$F$20,0,($P$4/Formulario!$F$20)))","v":-1331988.6259788591},{"$f":"-IF(B20>Formulario!$F$20,0,(G20+($P$4/Formulario!$F$20)))","v":-1331988.6259788591},null,{"$f":"IF(B20>Formulario!$F$20,0,PMT((Formulario!$F$19),Formulario!$F$20,-Formulario!$F$18))","v":1283188.6259788591},23628885.196969278,{"$f":"H19*Formulario!$F$19","v":197714.87161069951},1085473.7543681597,{"$f":"IF(B20>Formulario!$F$20,0,PMT((Formulario!$F$19),Formulario!$F$20,-Formulario!$F$24))","v":0},0,{"$f":"L19*Formulario!$F$19","v":0},0,{"$f":"IF(B20>Formulario!$F$20,0,PMT((Formulario!$F$19),Formulario!$F$20,-Formulario!$F$33))","v":56357.644452991495},1037780.6378508905,{"$f":"P19*Formulario!$F$19","v":8683.6371611419218},47674.007291849572,{"$f":"IF(B20>Formulario!$F$20,0,PMT((Formulario!$F$19),Formulario!$F$20,-Formulario!$F$34))","v":0},0,{"$f":"T19*Formulario!$F$19","v":0},0]
[null,17,null,{"$f":"-(G21+IF(B21>Formulario!$F$20,0,($P$4/Formulario!$F$20)))","v":-1331988.6259788591},{"$f":"-IF(B21>Formulario!$F$20,0,(G21+($P$4/Formulario!$F$20)))","v":-1331988.6259788591},null,{"$f":"IF(B21>Formulario!$F$20,0,PMT((Formulario!$F$19),Formulario!$F$20,-Formulario!$F$18))","v":1283188.6259788591},22534727.652566172,{"$f":"H20*Formulario!$F$19","v":189031.08157575422},1094157.544403105,{"$f":"IF(B21>Formulario!$F$20,0,PMT((Formulario!$F$19),Formulario!$F$20,-Formulario!$F$24))","v":0},0,{"$f":"L20*Formulario!$F$19","v":0},0,{"$f":"IF(B21>Formulario!$F$20,0,PMT((Formulario!$F$19),Formulario!$F$20,-Formulario!$F$33))","v":56357.644452991495},989725.23850070615,{"$f":"P20*Formulario!$F$19","v":8302.2451028071246},48055.399350184372,{"$f":"IF(B21>Formulario!$F$20,0,PMT((Formulario!$F$19),Formulario!$F$20,-Formulario!$F$34))","v":0},0,{"$f":"T20*Formulario!$F$19","v":0},0]
[null,18,null,{"$f":"-(G22+IF(B22>Formulario!$F$20,0,($P$4/Formulario!$F$20)))","v":-1331988.6259788591},{"$f":"-IF(B22>Formulario!$F$20,0,(G22+($P$4/Formulario!$F$20)))","v":-1331988.6259788591},null,{"$f":"IF(B22>Formulario!$F$20,0,PMT((Formulario!$F$19),Formulario!$F$20,-Formulario!$F$18))","v":1283188.6259788591},21431816.847807843,{"$f":"H21*Formulario!$F$19","v":180277.82122052938},1102910.8047583299,{"$f":"IF(B22>Formulario!$F$20,0,PMT((Formulario!$F$19),Formulario!$F$20,-Formulario!$F$24))","v":0},0,{"$f":"L21*Formulario!$F$19","v":0},0,{"$f":"IF(B22>Formulario!$F$20,0,PMT((Formulario!$F$19),Formulario!$F$20,-Formulario!$F$33))","v":56357.644452991495},941285.39595572033,{"$f":"P21*Formulario!$F$19","v":7917.8019080056492},48439.842544985848,{"$f":"IF(B22>Formulario!$F$20,0,PMT((Formulario!$F$19),Formulario!$F$20,-Formulario!$F$34))","v":0},0,{"$f":"T21*Formulario!$F$19","v":0},0]
[null,19,null,{"$f":"-(G23+IF(B23>Formulario!$F$20,0,($P$4/Formulario!$F$20)))","v":-1331988.6259788591},{"$f":"-IF(B23>Formulario!$F$20,0,(G23+($P$4/Formulario!$F$20)))","v":-1331988.6259788591},null,{"$f":"IF(B23>Formulario!$F$20,0,PMT((Formulario!$F$19),Formulario!$F$20,-Formulario!$F$18))","v":1283188.6259788591},20320082.756611448,{"$f":"H22*Formulario!$F$19","v":171454.53478246275},1111734.0911963964,{"$f":"IF(B23>Formulario!$F$20,0,PMT((Formulario!$F$19),Formulario!$F$20,-Formulario!$F$24))","v":0},0,{"$f":"L22*Formulario!$F$19","v":0},0,{"$f":"IF(B23>Formulario!$F$20,0,PMT((Formulario!$F$19),Formulario!$F$20,-Formulario!$F$33))","v":56357.644452991495},892458.03467037459,{"$f":"P22*Formulario!$F$19","v":7530.2831676457627},48827.361285345731,{"$f":"IF(B23>Formulario!$F$20,0,PMT((Formulario!$F$19),Formulario!$F$20,-Formulario!$F$34))","v":0},0,{"$f":"T22*Formulario!$F$19","v":0},0]
[null,20,null,{"$f":"-(G24+IF(B24>Formulario!$F$20,0,($P$4/Formulario!$F$20)))","v":-1331988.6259788591},{"$f":"-IF(B24>Formulario!$F$20,0,(G24+($P$4/Formulario!$F$20)))","v":-1331988.6259788591},null,{"$f":"IF(B24>Formulario!$F$20,0,PMT((Formulario!$F$19),Formulario!$F$20,-Formulario!$F$18))","v":1283188.6259788591},19199454.792685479,{"$f":"H23*Formulario!$F$19","v":162560.6620528916},1120627.9639259675,{"$f":"IF(B24>Formulario!$F$20,0,PMT((Formulario!$F$19),Formulario!$F$20,-Formulario!$F$24))","v":0},0,{"$f":"L23*Formulario!$F$19","v":0},0,{"$f":"IF(B24>Formulario!$F$20,0,PMT((Formulario!$F$19),Formulario!$F$20,-Formulario!$F$33))","v":56357.644452991495},843240.05449474603,{"$f":"P23*Formulario!$F$19","v":7139.6642773629965},49217.980175628501,{"$f":"IF(B24>Formulario!$F$20,0,PMT((Formulario!$F$19),Formulario!$F$20,-Formulario!$F$34))","v":0},0,{"$f":"T23*Formulario!$F$19","v":0},0]
[null,21,null,{"$f":"-(G25+IF(B25>Formulario!$F$20,0,($P$4/Formulario!$F$20)))","v":-1331988.6259788591},{"$f":"-IF(B25>Formulario!$F$20,0,(G25+($P$4/Formulario!$F$20)))","v":-1331988.6259788591},null,{"$f":"IF(B25>Formulario!$F$20,0,PMT((Formulario!$F$19),Formulario!$F$20,-Formulario!$F$18))","v":1283188.6259788591},18069861.805048104,{"$f":"H24*Formulario!$F$19","v":153595.63834148383},1129592.9876373752,{"$f":"IF(B25>Formulario!$F$20,0,PMT((Formulario!$F$19),Formulario!$F$20,-Formulario!$F$24))","v":0},0,{"$f":"L24*Formulario!$F$19","v":0},0,{"$f":"IF(B25>Formulario!$F$20,0,PMT((Formulario!$F$19),Formulario!$F$20,-Formulario!$F$33))","v":56357.644452991495},793628.33047771244,{"$f":"P24*Formulario!$F$19","v":6745.920435957968},49611.724017033528,{"$f":"IF(B25>Formulario!$F$20,0,PMT((Formulario!$F$19),Formulario!$F$20,-Formulario!$F$34))","v":0},0,{"$f":"T24*Formulario!$F$19","v":0},0]
[null,22,null,{"$f":"-(G26+IF(B26>Formulario!$F$20,0,($P$4/Formulario!$F$20)))","v":-1331988.6259788591},{"$f":"-IF(B26>Formulario!$F$20,0,(G26+($P$4/Formulario!$F$20)))","v":-1331988.6259788591},null,{"$f":"IF(B26>Formulario!$F$20,0,PMT((Formulario!$F$19),Formulario!$F$20,-Formulario!$F$18))","v":1283188.6259788591},16931232.07350963,{"$f":"H25*Formulario!$F$19","v":144558.89444038484},1138629.7315384743,{"$f":"IF(B26>Formulario!$F$20,0,PMT((Formulario!$F$19),Formulario!$F$20,-Formulario!$F$24))","v":0},0,{"$f":"L25*Formulario!$F$19","v":0},0,{"$f":"IF(B26>Formulario!$F$20,0,PMT((Formulario!$F$19),Formulario!$F$20,-Formulario!$F$33))","v":56357.644452991495},743619.71266854263,{"$f":"P25*Formulario!$F$19","v":6349.0266438216995},50008.617809169795,{"$f":"IF(B26>Formulario!$F$20,0,PMT((Formulario!$F$19),Formulario!$F$20,-Formulario!$F$34))","v":0},0,{"$f":"T25*Formulario!$F$19","v":0},0]
[null,23,null,{"$f":"-(G27+IF(B27>Formulario!$F$20,0,($P$4/Formulario!$F$20)))","v":-1331988.6259788591},{"$f":"-IF(B27>Formulario!$F$20,0,(G27+($P$4/Formulario!$F$20)))","v":-1331988.6259788591},null,{"$f":"IF(B27>Formulario!$F$20,0,PMT((Formulario!$F$19),Formulario!$F$20,-Formulario!$F$18))","v":1283188.6259788591},15783493.304118847,{"$f":"H26*Formulario!$F$19","v":135449.85658807703},1147738.7693907821,{"$f":"IF(B27>Formulario!$F$20,0,PMT((Formulario!$F$19),Formulario!$F$20,-Formulario!$F$24))","v":0},0,{"$f":"L26*Formulario!$F$19","v":0},0,{"$f":"IF(B27>Formulario!$F$20,0,PMT((Formulario!$F$19),Formulario!$F$20,-Formulario!$F$33))","v":56357.644452991495},693211.02591689944,{"$f":"P26*Formulario!$F$19","v":5948.9577013483413},50408.686751643152,{"$f":"IF(B27>Formulario!$F$20,0,PMT((Formulario!$F$19),Formulario!$F$20,-Formulario!$F$34))","v":0},0,{"$f":"T26*Formulario!$F$19","v":0},0]
[null,24,null,{"$f":"-(G28+IF(B28>Formulario!$F$20,0,($P$4/Formulario!$F$20)))","v":-1331988.6259788591},{"$f":"-IF(B28>Formulario!$F$20,0,(G28+($P$4/Formulario!$F$20)))","v":-1331988.6259788591},null,{"$f":"IF(B28>Formulario!$F$20,0,PMT((Formulario!$F$19),Formulario!$F$20,-Formulario!$F$18))","v":1283188.6259788591},14626572.624572938,{"$f":"H27*Formulario!$F$19","v":126267.94643295078},1156920.6795459085,{"$f":"IF(B28>Formulario!$F$20,0,PMT((Formulario!$F$19),Formulario!$F$20,-Formulario!$F$24))","v":0},0,{"$f":"L27*Formulario!$F$19","v":0},0,{"$f":"IF(B28>Formulario!$F$20,0,PMT((Formulario!$F$19),Formulario!$F$20,-Formulario!$F$33))","v":56357.644452991495},642399.0696712432,{"$f":"P27*Formulario!$F$19","v":5545.6882073351953},50811.9562456563,{"$f":"IF(B28>Formulario!$F$20,0,PMT((Formulario!$F$19),Formulario!$F$20,-Formulario!$F$34))","v":0},0,{"$f":"T27*Formulario!$F$19","v":0},0]
[null,25,null,{"$f":"-(G29+IF(B29>Formulario!$F$20,0,($P$4/Formulario!$F$20)))","v":-1331988.6259788591},{"$f":"-IF(B29>Formulario!$F$20,0,(G29+($P$4/Formulario!$F$20)))","v":-1331988.6259788591},null,{"$f":"IF(B29>Formulario!$F$20,0,PMT((Formulario!$F$19),Formulario!$F$20,-Formulario!$F$18))","v":1283188.6259788591},13460396.579590663,{"$f":"H28*Formulario!$F$19","v":117012.58099658351},1166176.0449822757,{"$f":"IF(B29>Formulario!$F$20,0,PMT((Formulario!$F$19),Formulario!$F$20,-Formulario!$F$24))","v":0},0,{"$f":"L28*Formulario!$F$19","v":0},0,{"$f":"IF(B29>Formulario!$F$20,0,PMT((Formulario!$F$19),Formulario!$F$20,-Formulario!$F$33))","v":56357.644452991495},591180.61777562159,{"$f":"P28*Formulario!$F$19","v":5139.1925573699455},51218.451895621547,{"$f":"IF(B29>Formulario!$F$20,0,PMT((Formulario!$F$19),Formulario!$F$20,-Formulario!$F$34))","v":0},0,{"$f":"T28*Formulario!$F$19","v":0},0]
[null,26,null,{"$f":"-(G30+IF(B30>Formulario!$F$20,0,($P$4/Formulario!$F$20)))","v":-1331988.6259788591},{"$f":"-IF(B30>Formulario!$F$20,0,(G30+($P$4/Formulario!$F$20)))","v":-1331988.6259788591},null,{"$f":"IF(B30>Formulario!$F$20,0,PMT((Formulario!$F$19),Formulario!$F$20,-Formulario!$F$18))","v":1283188.6259788591},12284891.126248529,{"$f":"H29*Formulario!$F$19","v":107683.17263672531},1175505.4533421339,{"$f":"IF(B30>Formulario!$F$20,0,PMT((Formulario!$F$19),Formulario!$F$20,-Formulario!$F$24))","v":0},0,{"$f":"L29*Formulario!$F$19","v":0},0,{"$f":"IF(B30>Formulario!$F$20,0,PMT((Formulario!$F$19),Formulario!$F$20,-Formulario!$F$33))","v":56357.644452991495},539552.41826483503,{"$f":"P29*Formulario!$F$19","v":4729.4449422049729},51628.199510786522,{"$f":"IF(B30>Formulario!$F$20,0,PMT((Formulario!$F$19),Formulario!$F$20,-Formulario!$F$34))","v":0},0,{"$f":"T29*Formulario!$F$19","v":0},0]
[null,27,null,{"$f":"-(G31+IF(B31>Formulario!$F$20,0,($P$4/Formulario!$F$20)))","v":-1331988.6259788591},{"$f":"-IF(B31>Formulario!$F$20,0,(G31+($P$4/Formulario!$F$20)))","v":-1331988.6259788591},null,{"$f":"IF(B31>Formulario!$F$20,0,PMT((Formulario!$F$19),Formulario!$F$20,-Formulario!$F$18))","v":1283188.6259788591},11099981.629279658,{"$f":"H30*Formulario!$F$19","v":98279.129009988232},1184909.496968871,{"$f":"IF(B31>Formulario!$F$20,0,PMT((Formulario!$F$19),Formulario!$F$20,-Formulario!$F$24))","v":0},0,{"$f":"L30*Formulario!$F$19","v":0},0,{"$f":"IF(B31>Formulario!$F$20,0,PMT((Formulario!$F$19),Formulario!$F$20,-Formulario!$F$33))","v":56357.644452991495},487511.19315796223,{"$f":"P30*Formulario!$F$19","v":4316.4193461186806},52041.225106872815,{"$f":"IF(B31>Formulario!$F$20,0,PMT((Formulario!$F$19),Formulario!$F$20,-Formulario!$F$34))","v":0},0,{"$f":"T30*Formulario!$F$19","v":0},0]
[null,28,null,{"$f":"-(G32+IF(B32>Formulario!$F$20,0,($P$4/Formulario!$F$20)))","v":-1331988.6259788591},{"$f":"-IF(B32>Formulario!$F$20,0,(G32+($P$4/Formulario!$F$20)))","v":-1331988.6259788591},null,{"$f":"IF(B32>Formulario!$F$20,0,PMT((Formulario!$F$19),Formulario!$F$20,-Formulario!$F$18))","v":1283188.6259788591},9905592.8563350365,{"$f":"H31*Formulario!$F$19","v":88799.853034237269},1194388.772944622,{"$f":"IF(B32>Formulario!$F$20,0,PMT((Formulario!$F$19),Formulario!$F$20,-Formulario!$F$24))","v":0},0,{"$f":"L31*Formulario!$F$19","v":0},0,{"$f":"IF(B32>Formulario!$F$20,0,PMT((Formulario!$F$19),Formulario!$F$20,-Formulario!$F$33))","v":56357.644452991495},435053.63825023442,{"$f":"P31*Formulario!$F$19","v":3900.0895452636978},52457.554907727797,{"$f":"IF(B32>Formulario!$F$20,0,PMT((Formulario!$F$19),Formulario!$F$20,-Formulario!$F$34))","v":0},0,{"$f":"T31*Formulario!$F$19","v":0},0]
[null,29,null,{"$f":"-(G33+IF(B33>Formulario!$F$20,0,($P$4/Formulario!$F$20)))","v":-1331988.6259788591},{"$f":"-IF(B33>Formulario!$F$20,0,(G33+($P$4/Formulario!$F$20)))","v":-1331988.6259788591},null,{"$f":"IF(B33>Formulario!$F$20,0,PMT((Formulario!$F$19),Formulario!$F$20,-Formulario!$F$18))","v":1283188.6259788591},8701648.9732068572,{"$f":"H32*Formulario!$F$19","v":79244.742850680297},1203943.8831281788,{"$f":"IF(B33>Formulario!$F$20,0,PMT((Formulario!$F$19),Formulario!$F$20,-Formulario!$F$24))","v":0},0,{"$f":"L32*Formulario!$F$19","v":0},0,{"$f":"IF(B33>Formulario!$F$20,0,PMT((Formulario!$F$19),Formulario!$F$20,-Formulario!$F$33))","v":56357.644452991495},382176.42290324479,{"$f":"P32*Formulario!$F$19","v":3480.4291060018754},52877.215346989622,{"$f":"IF(B33>Formulario!$F$20,0,PMT((Formulario!$F$19),Formulario!$F$20,-Formulario!$F$34))","v":0},0,{"$f":"T32*Formulario!$F$19","v":0},0]
[null,30,null,{"$f":"-(G34+IF(B34>Formulario!$F$20,0,($P$4/Formulario!$F$20)))","v":-1331988.6259788591},{"$f":"-IF(B34>Formulario!$F$20,0,(G34+($P$4/Formulario!$F$20)))","v":-1331988.6259788591},null,{"$f":"IF(B34>Formulario!$F$20,0,PMT((Formulario!$F$19),Formulario!$F$20,-Formulario!$F$18))","v":1283188.6259788591},7488073.5390136531,{"$f":"H33*Formulario!$F$19","v":69613.191785654853},1213575.4341932044,{"$f":"IF(B34>Formulario!$F$20,0,PMT((Formulario!$F$19),Formulario!$F$20,-Formulario!$F$24))","v":0},0,{"$f":"L33*Formulario!$F$19","v":0},0,{"$f":"IF(B34>Formulario!$F$20,0,PMT((Formulario!$F$19),Formulario!$F$20,-Formulario!$F$33))","v":56357.644452991495},328876.18983347923,{"$f":"P33*Formulario!$F$19","v":3057.4113832259586},53300.233069765534,{"$f":"IF(B34>Formulario!$F$20,0,PMT((Formulario!$F$19),Formulario!$F$20,-Formulario!$F$34))","v":0},0,{"$f":"T33*Formulario!$F$19","v":0},0]
[null,31,null,{"$f":"-(G35+IF(B35>Formulario!$F$20,0,($P$4/Formulario!$F$20)))","v":-1331988.6259788591},{"$f":"-IF(B35>Formulario!$F$20,0,(G35+($P$4/Formulario!$F$20)))","v":-1331988.6259788591},null,{"$f":"IF(B35>Formulario!$F$20,0,PMT((Formulario!$F$19),Formulario!$F$20,-Formulario!$F$18))","v":1283188.6259788591},6264789.5013469029,{"$f":"H34*Formulario!$F$19","v":59904.588312109227},1223284.0376667499,{"$f":"IF(B35>Formulario!$F$20,0,PMT((Formulario!$F$19),Formulario!$F$20,-Formulario!$F$24))","v":0},0,{"$f":"L34*Formulario!$F$19","v":0},0,{"$f":"IF(B35>Formulario!$F$20,0,PMT((Formulario!$F$19),Formulario!$F$20,-Formulario!$F$33))","v":56357.644452991495},275149.55489915557,{"$f":"P34*Formulario!$F$19","v":2631.0095186678341},53726.634934323658,{"$f":"IF(B35>Formulario!$F$20,0,PMT((Formulario!$F$19),Formulario!$F$20,-Formulario!$F$34))","v":0},0,{"$f":"T34*Formulario!$F$19","v":0},0]
[null,32,null,{"$f":"-(G36+IF(B36>Formulario!$F$20,0,($P$4/Formulario!$F$20)))","v":-1331988.6259788591},{"$f":"-IF(B36>Formulario!$F$20,0,(G36+($P$4/Formulario!$F$20)))","v":-1331988.6259788591},null,{"$f":"IF(B36>Formulario!$F$20,0,PMT((Formulario!$F$19),Formulario!$F$20,-Formulario!$F$18))","v":1283188.6259788591},5031719.1913788188,{"$f":"H35*Formulario!$F$19","v":50118.316010775226},1233070.3099680839,{"$f":"IF(B36>Formulario!$F$20,0,PMT((Formulario!$F$19),Formulario!$F$20,-Formulario!$F$24))","v":0},0,{"$f":"L35*Formulario!$F$19","v":0},0,{"$f":"IF(B36>Formulario!$F$20,0,PMT((Formulario!$F$19),Formulario!$F$20,-Formulario!$F$33))","v":56357.644452991495},220993.10688535732,{"$f":"P35*Formulario!$F$19","v":2201.1964391932447},54156.448013798254,{"$f":"IF(B36>Formulario!$F$20,0,PMT((Formulario!$F$19),Formulario!$F$20,-Formulario!$F$34))","v":0},0,{"$f":"T35*Formulario!$F$19","v":0},0]
[null,33,null,{"$f":"-(G37+IF(B37>Formulario!$F$20,0,($P$4/Formulario!$F$20)))","v":-1331988.6259788591},{"$f":"-IF(B37>Formulario!$F$20,0,(G37+($P$4/Formulario!$F$20)))","v":-1331988.6259788591},null,{"$f":"IF(B37>Formulario!$F$20,0,PMT((Formulario!$F$19),Formulario!$F$20,-Formulario!$F$18))","v":1283188.6259788591},3788784.3189309901,{"$f":"H36*Formulario!$F$19","v":40253.753531030554},1242934.8724478285,{"$f":"IF(B37>Formulario!$F$20,0,PMT((Formulario!$F$19),Formulario!$F$20,-Formulario!$F$24))","v":0},0,{"$f":"L36*Formulario!$F$19","v":0},0,{"$f":"IF(B37>Formulario!$F$20,0,PMT((Formulario!$F$19),Formulario!$F$20,-Formulario!$F$33))","v":56357.644452991495},166403.4072874487,{"$f":"P36*Formulario!$F$19","v":1767.9448550828586},54589.699597908635,{"$f":"IF(B37>Formulario!$F$20,0,PMT((Formulario!$F$19),Formulario!$F$20,-Formulario!$F$34))","v":0},0,{"$f":"T36*Formulario!$F$19","v":0},0]
[null,34,null,{"$f":"-(G38+IF(B38>Formulario!$F$20,0,($P$4/Formulario!$F$20)))","v":-1331988.6259788591},{"$f":"-IF(B38>Formulario!$F$20,0,(G38+($P$4/Formulario!$F$20)))","v":-1331988.6259788591},null,{"$f":"IF(B38>Formulario!$F$20,0,PMT((Formulario!$F$19),Formulario!$F$20,-Formulario!$F$18))","v":1283188.6259788591},2535905.9675035789,{"$f":"H37*Formulario!$F$19","v":30310.274551447921},1252878.3514274112,{"$f":"IF(B38>Formulario!$F$20,0,PMT((Formulario!$F$19),Formulario!$F$20,-Formulario!$F$24))","v":0},0,{"$f":"L37*Formulario!$F$19","v":0},0,{"$f":"IF(B38>Formulario!$F$20,0,PMT((Formulario!$F$19),Formulario!$F$20,-Formulario!$F$33))","v":56357.644452991495},111376.99009275679,{"$f":"P37*Formulario!$F$19","v":1331.2272582995897},55026.417194691909,{"$f":"IF(B38>Formulario!$F$20,0,PMT((Formulario!$F$19),Formulario!$F$20,-Formulario!$F$34))","v":0},{"$f":"IF(B38>$B$16,0,IF($B$39=\"Prima Mes\",0,IF($B$39=\"Prima Anual\",IF(AND(B38<12,OR(B38=0,B38=12,B38=24,B38=36,B38=48,B38=60,B38=72)),$B$41,T37-V38),IF(B38=0,$B$41,T37-V38))))","v":0},{"$f":"T37*Formulario!$F$19","v":0},0]
[null,35,null,{"$f":"-(G39+IF(B39>Formulario!$F$20,0,($P$4/Formulario!$F$20)))","v":-1331988.6259788591},{"$f":"-IF(B39>Formulario!$F$20,0,(G39+($P$4/Formulario!$F$20)))","v":-1331988.6259788591},null,{"$f":"IF(B39>Formulario!$F$20,0,PMT((Formulario!$F$19),Formulario!$F$20,-Formulario!$F$18))","v":1283188.6259788591},1273004.5892647484,{"$f":"H38*Formulario!$F$19","v":20287.24774002863},1262901.3782388305,{"$f":"IF(B39>Formulario!$F$20,0,PMT((Formulario!$F$19),Formulario!$F$20,-Formulario!$F$24))","v":0},0,{"$f":"L38*Formulario!$F$19","v":0},0,{"$f":"IF(B39>Formulario!$F$20,0,PMT((Formulario!$F$19),Formulario!$F$20,-Formulario!$F$33))","v":56357.644452991495},55910.36156050735,{"$f":"P38*Formulario!$F$19","v":891.01592074205439},55466.628532249444,{"$f":"IF(B39>Formulario!$F$20,0,PMT((Formulario!$F$19),Formulario!$F$20,-Formulario!$F$34))","v":0},0,{"$f":"T38*Formulario!$F$19","v":0},0]
[null,36,null,{"$f":"-(G40+IF(B40>Formulario!$F$20,0,($P$4/Formulario!$F$20)))","v":-1331988.6259788591},{"$f":"-IF(B40>Formulario!$F$20,0,(G40+($P$4/Formulario!$F$20)))","v":-1331988.6259788591},null,{"$f":"IF(B40>Formulario!$F$20,0,PMT((Formulario!$F$19),Formulario!$F$20,-Formulario!$F$18))","v":1283188.6259788591},7.2177499532699585E-9,{"$f":"H39*Formulario!$F$19","v":10184.036714117987},1273004.5892647412,{"$f":"IF(B40>Formulario!$F$20,0,PMT((Formulario!$F$19),Formulario!$F$20,-Formulario!$F$24))","v":0},0,{"$f":"L39*Formulario!$F$19","v":0},0,{"$f":"IF(B40>Formulario!$F$20,0,PMT((Formulario!$F$19),Formulario!$F$20,-Formulario!$F$33))","v":56357.644452991495},-8.7311491370201111E-11,{"$f":"P39*Formulario!$F$19","v":447.28289248405883},55910.361560507437,{"$f":"IF(B40>Formulario!$F$20,0,PMT((Formulario!$F$19),Formulario!$F$20,-Formulario!$F$34))","v":0},0,{"$f":"T39*Formulario!$F$19","v":0},0]
[null,37,null,{"$f":"-(G41+IF(B41>Formulario!$F$20,0,($P$4/Formulario!$F$20)))","v":0},{"$f":"-IF(B41>Formulario!$F$20,0,(G41+($P$4/Formulario!$F$20)))","v":0},null,{"$f":"IF(B41>Formulario!$F$20,0,PMT((Formulario!$F$19),Formulario!$F$20,-Formulario!$F$18))","v":0},7.2754919528961184E-9,{"$f":"H40*Formulario!$F$19","v":5.7741999626159668E-11},-5.7741999626159668E-11,{"$f":"IF(B41>Formulario!$F$20,0,PMT((Formulario!$F$19),Formulario!$F$20,-Formulario!$F$24))","v":0},0,{"$f":"L40*Formulario!$F$19","v":0},0,{"$f":"IF(B41>Formulario!$F$20,0,PMT((Formulario!$F$19),Formulario!$F$20,-Formulario!$F$33))","v":0},-8.800998330116272E-11,{"$f":"P40*Formulario!$F$19","v":-6.984919309616089E-13},6.984919309616089E-13,{"$f":"IF(B41>Formulario!$F$20,0,PMT((Formulario!$F$19),Formulario!$F$20,-Formulario!$F$34))","v":0},0,{"$f":"T40*Formulario!$F$19","v":0},0]
[null,38,null,{"$f":"-(G42+IF(B42>Formulario!$F$20,0,($P$4/Formulario!$F$20)))","v":0},{"$f":"-IF(B42>Formulario!$F$20,0,(G42+($P$4/Formulario!$F$20)))","v":0},null,{"$f":"IF(B42>Formulario!$F$20,0,PMT((Formulario!$F$19),Formulario!$F$20,-Formulario!$F$18))","v":0},7.3336958885192877E-9,{"$f":"H41*Formulario!$F$19","v":5.8203935623168948E-11},-5.8203935623168948E-11,{"$f":"IF(B42>Formulario!$F$20,0,PMT((Formulario!$F$19),Formulario!$F$20,-Formulario!$F$24))","v":0},0,{"$f":"L41*Formulario!$F$19","v":0},0,{"$f":"IF(B42>Formulario!$F$20,0,PMT((Formulario!$F$19),Formulario!$F$20,-Formulario!$F$33))","v":0},-8.8714063167572028E-11,{"$f":"P41*Formulario!$F$19","v":-7.0407986640930181E-13},7.0407986640930181E-13,{"$f":"IF(B42>Formulario!$F$20,0,PMT((Formulario!$F$19),Formulario!$F$20,-Formulario!$F$34))","v":0},0,{"$f":"T41*Formulario!$F$19","v":0},0]
[null,39,null,{"$f":"-(G43+IF(B43>Formulario!$F$20,0,($P$4/Formulario!$F$20)))","v":0},{"$f":"-IF(B43>Formulario!$F$20,0,(G43+($P$4/Formulario!$F$20)))","v":0},null,{"$f":"IF(B43>Formulario!$F$20,0,PMT((Formulario!$F$19),Formulario!$F$20,-Formulario!$F$18))","v":0},7.392365455627442E-9,{"$f":"H42*Formulario!$F$19","v":5.8669567108154296E-11},-5.8669567108154296E-11,{"$f":"IF(B43>Formulario!$F$20,0,PMT((Formulario!$F$19),Formulario!$F$20,-Formulario!$F$24))","v":0},0,{"$f":"L42*Formulario!$F$19","v":0},0,{"$f":"IF(B43>Formulario!$F$20,0,PMT((Formulario!$F$19),Formulario!$F$20,-Formulario!$F$33))","v":0},-8.9423775672912606E-11,{"$f":"P42*Formulario!$F$19","v":-7.0971250534057625E-13},7.0971250534057625E-13,{"$f":"IF(B43>Formulario!$F$20,0,PMT((Formulario!$F$19),Formulario!$F$20,-Formulario!$F$34))","v":0},0,{"$f":"T42*Formulario!$F$19","v":0},0]
[null,40,null,{"$f":"-(G44+IF(B44>Formulario!$F$20,0,($P$4/Formulario!$F$20)))","v":0},{"$f":"-IF(B44>Formulario!$F$20,0,(G44+($P$4/Formulario!$F$20)))","v":0},null,{"$f":"IF(B44>Formulario!$F$20,0,PMT((Formulario!$F$19),Formulario!$F$20,-Formulario!$F$18))","v":0},7.4515043792724622E-9,{"$f":"H43*Formulario!$F$19","v":5.9138923645019539E-11},-5.9138923645019539E-11,{"$f":"IF(B44>Formulario!$F$20,0,PMT((Formulario!$F$19),Formulario!$F$20,-Formulario!$F$24))","v":0},0,{"$f":"L43*Formulario!$F$19","v":0},0,{"$f":"IF(B44>Formulario!$F$20,0,PMT((Formulario!$F$19),Formulario!$F$20,-Formulario!$F$33))","v":0},-9.0139165878295904E-11,{"$f":"P43*Formulario!$F$19","v":-7.1539020538330088E-13},7.1539020538330088E-13,{"$f":"IF(B44>Formulario!$F$20,0,PMT((Formulario!$F$19),Formulario!$F$20,-Formulario!$F$34))","v":0},0,{"$f":"T43*Formulario!$F$19","v":0},0]
[null,41,null,{"$f":"-(G45+IF(B45>Formulario!$F$20,0,($P$4/Formulario!$F$20)))","v":0},{"$f":"-IF(B45>Formulario!$F$20,0,(G45+($P$4/Formulario!$F$20)))","v":0},null,{"$f":"IF(B45>Formulario!$F$20,0,PMT((Formulario!$F$19),Formulario!$F$20,-Formulario!$F$18))","v":0},7.5111164143066422E-9,{"$f":"H44*Formulario!$F$19","v":5.9612035034179704E-11},-5.9612035034179704E-11,{"$f":"IF(B45>Formulario!$F$20,0,PMT((Formulario!$F$19),Formulario!$F$20,-Formulario!$F$24))","v":0},0,{"$f":"L44*Formulario!$F$19","v":0},0,{"$f":"IF(B45>Formulario!$F$20,0,PMT((Formulario!$F$19),Formulario!$F$20,-Formulario!$F$33))","v":0},-9.0860279205322277E-11,{"$f":"P44*Formulario!$F$19","v":-7.2111332702636727E-13},7.2111332702636727E-13,{"$f":"IF(B45>Formulario!$F$20,0,PMT((Formulario!$F$19),Formulario!$F$20,-Formulario!$F$34))","v":0},0,{"$f":"T44*Formulario!$F$19","v":0},0]
[null,42,null,{"$f":"-(G46+IF(B46>Formulario!$F$20,0,($P$4/Formulario!$F$20)))","v":0},{"$f":"-IF(B46>Formulario!$F$20,0,(G46+($P$4/Formulario!$F$20)))","v":0},null,{"$f":"IF(B46>Formulario!$F$20,0,PMT((Formulario!$F$19),Formulario!$F$20,-Formulario!$F$18))","v":0},7.571205345621095E-9,{"$f":"H45*Formulario!$F$19","v":6.0088931314453142E-11},-6.0088931314453142E-11,{"$f":"IF(B46>Formulario!$F$20,0,PMT((Formulario!$F$19),Formulario!$F$20,-Formulario!$F$24))","v":0},0,{"$f":"L45*Formulario!$F$19","v":0},0,{"$f":"IF(B46>Formulario!$F$20,0,PMT((Formulario!$F$19),Formulario!$F$20,-Formulario!$F$33))","v":0},-9.158716143896486E-11,{"$f":"P45*Formulario!$F$19","v":-7.2688223364257822E-13},7.2688223364257822E-13,{"$f":"IF(B46>Formulario!$F$20,0,PMT((Formulario!$F$19),Formulario!$F$20,-Formulario!$F$34))","v":0},0,{"$f":"T45*Formulario!$F$19","v":0},0]
[null,43,null,{"$f":"-(G47+IF(B47>Formulario!$F$20,0,($P$4/Formulario!$F$20)))","v":0},{"$f":"-IF(B47>Formulario!$F$20,0,(G47+($P$4/Formulario!$F$20)))","v":0},null,{"$f":"IF(B47>Formulario!$F$20,0,PMT((Formulario!$F$19),Formulario!$F$20,-Formulario!$F$18))","v":0},7.6317749883860644E-9,{"$f":"H46*Formulario!$F$19","v":6.0569642764968763E-11},-6.0569642764968763E-11,{"$f":"IF(B47>Formulario!$F$20,0,PMT((Formulario!$F$19),Formulario!$F$20,-Formulario!$F$24))","v":0},0,{"$f":"L46*Formulario!$F$19","v":0},0,{"$f":"IF(B47>Formulario!$F$20,0,PMT((Formulario!$F$19),Formulario!$F$20,-Formulario!$F$33))","v":0},-9.2319858730476575E-11,{"$f":"P46*Formulario!$F$19","v":-7.3269729151171889E-13},7.3269729151171889E-13,{"$f":"IF(B47>Formulario!$F$20,0,PMT((Formulario!$F$19),Formulario!$F$20,-Formulario!$F$34))","v":0},0,{"$f":"T46*Formulario!$F$19","v":0},0]
[null,44,null,{"$f":"-(G48+IF(B48>Formulario!$F$20,0,($P$4/Formulario!$F$20)))","v":0},{"$f":"-IF(B48>Formulario!$F$20,0,(G48+($P$4/Formulario!$F$20)))","v":0},null,{"$f":"IF(B48>Formulario!$F$20,0,PMT((Formulario!$F$19),Formulario!$F$20,-Formulario!$F$18))","v":0},7.6928291882931526E-9,{"$f":"H47*Formulario!$F$19","v":6.1054199907088521E-11},-6.1054199907088521E-11,{"$f":"IF(B48>Formulario!$F$20,0,PMT((Formulario!$F$19),Formulario!$F$20,-Formulario!$F$24))","v":0},0,{"$f":"L47*Formulario!$F$19","v":0},0,{"$f":"IF(B48>Formulario!$F$20,0,PMT((Formulario!$F$19),Formulario!$F$20,-Formulario!$F$33))","v":0},-9.3058417600320381E-11,{"$f":"P47*Formulario!$F$19","v":-7.3855886984381266E-13},7.3855886984381266E-13,{"$f":"IF(B48>Formulario!$F$20,0,PMT((Formulario!$F$19),Formulario!$F$20,-Formulario!$F$34))","v":0},0,{"$f":"T47*Formulario!$F$19","v":0},0]
[null,45,null,{"$f":"-(G49+IF(B49>Formulario!$F$20,0,($P$4/Formulario!$F$20)))","v":0},{"$f":"-IF(B49>Formulario!$F$20,0,(G49+($P$4/Formulario!$F$20)))","v":0},null,{"$f":"IF(B49>Formulario!$F$20,0,PMT((Formulario!$F$19),Formulario!$F$20,-Formulario!$F$18))","v":0},7.7543718217994986E-9,{"$f":"H48*Formulario!$F$19","v":6.1542633506345225E-11},-6.1542633506345225E-11,{"$f":"IF(B49>Formulario!$F$20,0,PMT((Formulario!$F$19),Formulario!$F$20,-Formulario!$F$24))","v":0},0,{"$f":"L48*Formulario!$F$19","v":0},0,{"$f":"IF(B49>Formulario!$F$20,0,PMT((Formulario!$F$19),Formulario!$F$20,-Formulario!$F$33))","v":0},-9.3802884941122945E-11,{"$f":"P48*Formulario!$F$19","v":-7.4446734080256306E-13},7.4446734080256306E-13,{"$f":"IF(B49>Formulario!$F$20,0,PMT((Formulario!$F$19),Formulario!$F$20,-Formulario!$F$34))","v":0},0,{"$f":"T48*Formulario!$F$19","v":0},0]
[null,46,null,{"$f":"-(G50+IF(B50>Formulario!$F$20,0,($P$4/Formulario!$F$20)))","v":0},{"$f":"-IF(B50>Formulario!$F$20,0,(G50+($P$4/Formulario!$F$20)))","v":0},null,{"$f":"IF(B50>Formulario!$F$20,0,PMT((Formulario!$F$19),Formulario!$F$20,-Formulario!$F$18))","v":0},7.8164067963738943E-9,{"$f":"H49*Formulario!$F$19","v":6.2034974574395995E-11},-6.2034974574395995E-11,{"$f":"IF(B50>Formulario!$F$20,0,PMT((Formulario!$F$19),Formulario!$F$20,-Formulario!$F$24))","v":0},0,{"$f":"L49*Formulario!$F$19","v":0},0,{"$f":"IF(B50>Formulario!$F$20,0,PMT((Formulario!$F$19),Formulario!$F$20,-Formulario!$F$33))","v":0},-9.455330802065193E-11,{"$f":"P49*Formulario!$F$19","v":-7.504230795289836E-13},7.504230795289836E-13,{"$f":"IF(B50>Formulario!$F$20,0,PMT((Formulario!$F$19),Formulario!$F$20,-Formulario!$F$34))","v":0},0,{"$f":"T49*Formulario!$F$19","v":0},0]
[null,47,null,{"$f":"-(G51+IF(B51>Formulario!$F$20,0,($P$4/Formulario!$F$20)))","v":0},{"$f":"-IF(B51>Formulario!$F$20,0,(G51+($P$4/Formulario!$F$20)))","v":0},null,{"$f":"IF(B51>Formulario!$F$20,0,PMT((Formulario!$F$19),Formulario!$F$20,-Formulario!$F$18))","v":0},7.878938050744886E-9,{"$f":"H50*Formulario!$F$19","v":6.2531254370991154E-11},-6.2531254370991154E-11,{"$f":"IF(B51>Formulario!$F$20,0,PMT((Formulario!$F$19),Formulario!$F$20,-Formulario!$F$24))","v":0},0,{"$f":"L50*Formulario!$F$19","v":0},0,{"$f":"IF(B51>Formulario!$F$20,0,PMT((Formulario!$F$19),Formulario!$F$20,-Formulario!$F$33))","v":0},-9.5309734484817142E-11,{"$f":"P50*Formulario!$F$19","v":-7.5642646416521546E-13},7.5642646416521546E-13,{"$f":"IF(B51>Formulario!$F$20,0,PMT((Formulario!$F$19),Formulario!$F$20,-Formulario!$F$34))","v":0},0,{"$f":"T50*Formulario!$F$19","v":0},0]
[null,48,null,{"$f":"-(G52+IF(B52>Formulario!$F$20,0,($P$4/Formulario!$F$20)))","v":0},{"$f":"-IF(B52>Formulario!$F$20,0,(G52+($P$4/Formulario!$F$20)))","v":0},null,{"$f":"IF(B52>Formulario!$F$20,0,PMT((Formulario!$F$19),Formulario!$F$20,-Formulario!$F$18))","v":0},7.9419695551508457E-9,{"$f":"H51*Formulario!$F$19","v":6.303150440595909E-11},-6.303150440595909E-11,{"$f":"IF(B52>Formulario!$F$20,0,PMT((Formulario!$F$19),Formulario!$F$20,-Formulario!$F$24))","v":0},0,{"$f":"L51*Formulario!$F$19","v":0},0,{"$f":"IF(B52>Formulario!$F$20,0,PMT((Formulario!$F$19),Formulario!$F$20,-Formulario!$F$33))","v":0},-9.6072212360695681E-11,{"$f":"P51*Formulario!$F$19","v":-7.6247787587853718E-13},7.6247787587853718E-13,{"$f":"IF(B52>Formulario!$F$20,0,PMT((Formulario!$F$19),Formulario!$F$20,-Formulario!$F$34))","v":0},0,{"$f":"T51*Formulario!$F$19","v":0},0]
[null,49,null,{"$f":"-(G53+IF(B53>Formulario!$F$20,0,($P$4/Formulario!$F$20)))","v":0},{"$f":"-IF(B53>Formulario!$F$20,0,(G53+($P$4/Formulario!$F$20)))","v":0},null,{"$f":"IF(B53>Formulario!$F$20,0,PMT((Formulario!$F$19),Formulario!$F$20,-Formulario!$F$18))","v":0},8.005505311592053E-9,{"$f":"H52*Formulario!$F$19","v":6.3535756441206765E-11},-6.3535756441206765E-11,{"$f":"IF(B53>Formulario!$F$20,0,PMT((Formulario!$F$19),Formulario!$F$20,-Formulario!$F$24))","v":0},0,{"$f":"L52*Formulario!$F$19","v":0},0,{"$f":"IF(B53>Formulario!$F$20,0,PMT((Formulario!$F$19),Formulario!$F$20,-Formulario!$F$33))","v":0},-9.6840790059581253E-11,{"$f":"P52*Formulario!$F$19","v":-7.685776988855655E-13},7.685776988855655E-13,{"$f":"IF(B53>Formulario!$F$20,0,PMT((Formulario!$F$19),Formulario!$F$20,-Formulario!$F$34))","v":0},0,{"$f":"T52*Formulario!$F$19","v":0},0]
[null,50,null,{"$f":"-(G54+IF(B54>Formulario!$F$20,0,($P$4/Formulario!$F$20)))","v":0},{"$f":"-IF(B54>Formulario!$F$20,0,(G54+($P$4/Formulario!$F$20)))","v":0},null,{"$f":"IF(B54>Formulario!$F$20,0,PMT((Formulario!$F$19),Formulario!$F$20,-Formulario!$F$18))","v":0},8.0695493540847898E-9,{"$f":"H53*Formulario!$F$19","v":6.404404249273642E-11},-6.404404249273642E-11,{"$f":"IF(B54>Formulario!$F$20,0,PMT((Formulario!$F$19),Formulario!$F$20,-Formulario!$F$24))","v":0},0,{"$f":"L53*Formulario!$F$19","v":0},0,{"$f":"IF(B54>Formulario!$F$20,0,PMT((Formulario!$F$19),Formulario!$F$20,-Formulario!$F$33))","v":0},-9.7615516380057908E-11,{"$f":"P53*Formulario!$F$19","v":-7.7472632047665003E-13},7.7472632047665003E-13,{"$f":"IF(B54>Formulario!$F$20,0,PMT((Formulario!$F$19),Formulario!$F$20,-Formulario!$F$34))","v":0},0,{"$f":"T53*Formulario!$F$19","v":0},0]
[null,51,null,{"$f":"-(G55+IF(B55>Formulario!$F$20,0,($P$4/Formulario!$F$20)))","v":0},{"$f":"-IF(B55>Formulario!$F$20,0,(G55+($P$4/Formulario!$F$20)))","v":0},null,{"$f":"IF(B55>Formulario!$F$20,0,PMT((Formulario!$F$19),Formulario!$F$20,-Formulario!$F$18))","v":0},8.1341057489174688E-9,{"$f":"H54*Formulario!$F$19","v":6.455639483267832E-11},-6.455639483267832E-11,{"$f":"IF(B55>Formulario!$F$20,0,PMT((Formulario!$F$19),Formulario!$F$20,-Formulario!$F$24))","v":0},0,{"$f":"L54*Formulario!$F$19","v":0},0,{"$f":"IF(B55>Formulario!$F$20,0,PMT((Formulario!$F$19),Formulario!$F$20,-Formulario!$F$33))","v":0},-9.8396440511098374E-11,{"$f":"P54*Formulario!$F$19","v":-7.8092413104046333E-13},7.8092413104046333E-13,{"$f":"IF(B55>Formulario!$F$20,0,PMT((Formulario!$F$19),Formulario!$F$20,-Formulario!$F$34))","v":0},0,{"$f":"T54*Formulario!$F$19","v":0},0]
[null,52,null,{"$f":"-(G56+IF(B56>Formulario!$F$20,0,($P$4/Formulario!$F$20)))","v":0},{"$f":"-IF(B56>Formulario!$F$20,0,(G56+($P$4/Formulario!$F$20)))","v":0},null,{"$f":"IF(B56>Formulario!$F$20,0,PMT((Formulario!$F$19),Formulario!$F$20,-Formulario!$F$18))","v":0},8.1991785949088077E-9,{"$f":"H55*Formulario!$F$19","v":6.5072845991339758E-11},-6.5072845991339758E-11,{"$f":"IF(B56>Formulario!$F$20,0,PMT((Formulario!$F$19),Formulario!$F$20,-Formulario!$F$24))","v":0},0,{"$f":"L55*Formulario!$F$19","v":0},0,{"$f":"IF(B56>Formulario!$F$20,0,PMT((Formulario!$F$19),Formulario!$F$20,-Formulario!$F$33))","v":0},-9.9183612035187156E-11,{"$f":"P55*Formulario!$F$19","v":-7.8717152408878698E-13},7.8717152408878698E-13,{"$f":"IF(B56>Formulario!$F$20,0,PMT((Formulario!$F$19),Formulario!$F$20,-Formulario!$F$34))","v":0},0,{"$f":"T55*Formulario!$F$19","v":0},0]
[null,53,null,{"$f":"-(G57+IF(B57>Formulario!$F$20,0,($P$4/Formulario!$F$20)))","v":0},{"$f":"-IF(B57>Formulario!$F$20,0,(G57+($P$4/Formulario!$F$20)))","v":0},null,{"$f":"IF(B57>Formulario!$F$20,0,PMT((Formulario!$F$19),Formulario!$F$20,-Formulario!$F$18))","v":0},8.2647720236680775E-9,{"$f":"H56*Formulario!$F$19","v":6.5593428759270459E-11},-6.5593428759270459E-11,{"$f":"IF(B57>Formulario!$F$20,0,PMT((Formulario!$F$19),Formulario!$F$20,-Formulario!$F$24))","v":0},0,{"$f":"L56*Formulario!$F$19","v":0},0,{"$f":"IF(B57>Formulario!$F$20,0,PMT((Formulario!$F$19),Formulario!$F$20,-Formulario!$F$33))","v":0},-9.9977080931468657E-11,{"$f":"P56*Formulario!$F$19","v":-7.9346889628149722E-13},7.9346889628149722E-13,{"$f":"IF(B57>Formulario!$F$20,0,PMT((Formulario!$F$19),Formulario!$F$20,-Formulario!$F$34))","v":0},0,{"$f":"T56*Formulario!$F$19","v":0},0]
[null,54,null,{"$f":"-(G58+IF(B58>Formulario!$F$20,0,($P$4/Formulario!$F$20)))","v":0},{"$f":"-IF(B58>Formulario!$F$20,0,(G58+($P$4/Formulario!$F$20)))","v":0},null,{"$f":"IF(B58>Formulario!$F$20,0,PMT((Formulario!$F$19),Formulario!$F$20,-Formulario!$F$18))","v":0},8.3308901998574222E-9,{"$f":"H57*Formulario!$F$19","v":6.6118176189344622E-11},-6.6118176189344622E-11,{"$f":"IF(B58>Formulario!$F$20,0,PMT((Formulario!$F$19),Formulario!$F$20,-Formulario!$F$24))","v":0},0,{"$f":"L57*Formulario!$F$19","v":0},0,{"$f":"IF(B58>Formulario!$F$20,0,PMT((Formulario!$F$19),Formulario!$F$20,-Formulario!$F$33))","v":0},-1.0077689757892041E-10,{"$f":"P57*Formulario!$F$19","v":-7.9981664745174926E-13},7.9981664745174926E-13,{"$f":"IF(B58>Formulario!$F$20,0,PMT((Formulario!$F$19),Formulario!$F$20,-Formulario!$F$34))","v":0},0,{"$f":"T57*Formulario!$F$19","v":0},0]
[null,55,null,{"$f":"-(G59+IF(B59>Formulario!$F$20,0,($P$4/Formulario!$F$20)))","v":0},{"$f":"-IF(B59>Formulario!$F$20,0,(G59+($P$4/Formulario!$F$20)))","v":0},null,{"$f":"IF(B59>Formulario!$F$20,0,PMT((Formulario!$F$19),Formulario!$F$20,-Formulario!$F$18))","v":0},8.3975373214562808E-9,{"$f":"H58*Formulario!$F$19","v":6.6647121598859373E-11},-6.6647121598859373E-11,{"$f":"IF(B59>Formulario!$F$20,0,PMT((Formulario!$F$19),Formulario!$F$20,-Formulario!$F$24))","v":0},0,{"$f":"L58*Formulario!$F$19","v":0},0,{"$f":"IF(B59>Formulario!$F$20,0,PMT((Formulario!$F$19),Formulario!$F$20,-Formulario!$F$33))","v":0},-1.0158311275955177E-10,{"$f":"P58*Formulario!$F$19","v":-8.0621518063136323E-13},8.0621518063136323E-13,{"$f":"IF(B59>Formulario!$F$20,0,PMT((Formulario!$F$19),Formulario!$F$20,-Formulario!$F$34))","v":0},0,{"$f":"T58*Formulario!$F$19","v":0},0]
[null,56,null,{"$f":"-(G60+IF(B60>Formulario!$F$20,0,($P$4/Formulario!$F$20)))","v":0},{"$f":"-IF(B60>Formulario!$F$20,0,(G60+($P$4/Formulario!$F$20)))","v":0},null,{"$f":"IF(B60>Formulario!$F$20,0,PMT((Formulario!$F$19),Formulario!$F$20,-Formulario!$F$18))","v":0},8.4647176200279313E-9,{"$f":"H59*Formulario!$F$19","v":6.7180298571650251E-11},-6.7180298571650251E-11,{"$f":"IF(B60>Formulario!$F$20,0,PMT((Formulario!$F$19),Formulario!$F$20,-Formulario!$F$24))","v":0},0,{"$f":"L59*Formulario!$F$19","v":0},0,{"$f":"IF(B60>Formulario!$F$20,0,PMT((Formulario!$F$19),Formulario!$F$20,-Formulario!$F$33))","v":0},-1.0239577766162818E-10,{"$f":"P59*Formulario!$F$19","v":-8.1266490207641417E-13},8.1266490207641417E-13,{"$f":"IF(B60>Formulario!$F$20,0,PMT((Formulario!$F$19),Formulario!$F$20,-Formulario!$F$34))","v":0},0,{"$f":"T59*Formulario!$F$19","v":0},0]
[null,57,null,{"$f":"-(G61+IF(B61>Formulario!$F$20,0,($P$4/Formulario!$F$20)))","v":0},{"$f":"-IF(B61>Formulario!$F$20,0,(G61+($P$4/Formulario!$F$20)))","v":0},null,{"$f":"IF(B61>Formulario!$F$20,0,PMT((Formulario!$F$19),Formulario!$F$20,-Formulario!$F$18))","v":0},8.5324353609881553E-9,{"$f":"H60*Formulario!$F$19","v":6.7717740960223451E-11},-6.7717740960223451E-11,{"$f":"IF(B61>Formulario!$F$20,0,PMT((Formulario!$F$19),Formulario!$F$20,-Formulario!$F$24))","v":0},0,{"$f":"L60*Formulario!$F$19","v":0},0,{"$f":"IF(B61>Formulario!$F$20,0,PMT((Formulario!$F$19),Formulario!$F$20,-Formulario!$F$33))","v":0},-1.0321494388292121E-10,{"$f":"P60*Formulario!$F$19","v":-8.191662212930255E-13},8.191662212930255E-13,{"$f":"IF(B61>Formulario!$F$20,0,PMT((Formulario!$F$19),Formulario!$F$20,-Formulario!$F$34))","v":0},0,{"$f":"T60*Formulario!$F$19","v":0},0]
[null,58,null,{"$f":"-(G62+IF(B62>Formulario!$F$20,0,($P$4/Formulario!$F$20)))","v":0},{"$f":"-IF(B62>Formulario!$F$20,0,(G62+($P$4/Formulario!$F$20)))","v":0},null,{"$f":"IF(B62>Formulario!$F$20,0,PMT((Formulario!$F$19),Formulario!$F$20,-Formulario!$F$18))","v":0},8.6006948438760609E-9,{"$f":"H61*Formulario!$F$19","v":6.825948288790525E-11},-6.825948288790525E-11,{"$f":"IF(B62>Formulario!$F$20,0,PMT((Formulario!$F$19),Formulario!$F$20,-Formulario!$F$24))","v":0},0,{"$f":"L61*Formulario!$F$19","v":0},0,{"$f":"IF(B62>Formulario!$F$20,0,PMT((Formulario!$F$19),Formulario!$F$20,-Formulario!$F$33))","v":0},-1.0404066343398458E-10,{"$f":"P61*Formulario!$F$19","v":-8.2571955106336974E-13},8.2571955106336974E-13,{"$f":"IF(B62>Formulario!$F$20,0,PMT((Formulario!$F$19),Formulario!$F$20,-Formulario!$F$34))","v":0},0,{"$f":"T61*Formulario!$F$19","v":0},0]
[null,59,null,{"$f":"-(G63+IF(B63>Formulario!$F$20,0,($P$4/Formulario!$F$20)))","v":0},{"$f":"-IF(B63>Formulario!$F$20,0,(G63+($P$4/Formulario!$F$20)))","v":0},null,{"$f":"IF(B63>Formulario!$F$20,0,PMT((Formulario!$F$19),Formulario!$F$20,-Formulario!$F$18))","v":0},8.6695004026270698E-9,{"$f":"H62*Formulario!$F$19","v":6.8805558751008485E-11},-6.8805558751008485E-11,{"$f":"IF(B63>Formulario!$F$20,0,PMT((Formulario!$F$19),Formulario!$F$20,-Formulario!$F$24))","v":0},0,{"$f":"L62*Formulario!$F$19","v":0},0,{"$f":"IF(B63>Formulario!$F$20,0,PMT((Formulario!$F$19),Formulario!$F$20,-Formulario!$F$33))","v":0},-1.0487298874145646E-10,{"$f":"P62*Formulario!$F$19","v":-8.3232530747187669E-13},8.3232530747187669E-13,{"$f":"IF(B63>Formulario!$F$20,0,PMT((Formulario!$F$19),Formulario!$F$20,-Formulario!$F$34))","v":0},0,{"$f":"T62*Formulario!$F$19","v":0},0]
[null,60,null,{"$f":"-(G64+IF(B64>Formulario!$F$20,0,($P$4/Formulario!$F$20)))","v":0},{"$f":"-IF(B64>Formulario!$F$20,0,(G64+($P$4/Formulario!$F$20)))","v":0},null,{"$f":"IF(B64>Formulario!$F$20,0,PMT((Formulario!$F$19),Formulario!$F$20,-Formulario!$F$18))","v":0},8.7388564058480861E-9,{"$f":"H63*Formulario!$F$19","v":6.9356003221016566E-11},-6.9356003221016566E-11,{"$f":"IF(B64>Formulario!$F$20,0,PMT((Formulario!$F$19),Formulario!$F$20,-Formulario!$F$24))","v":0},0,{"$f":"L63*Formulario!$F$19","v":0},0,{"$f":"IF(B64>Formulario!$F$20,0,PMT((Formulario!$F$19),Formulario!$F$20,-Formulario!$F$33))","v":0},-1.0571197265138811E-10,{"$f":"P63*Formulario!$F$19","v":-8.3898390993165172E-13},8.3898390993165172E-13,{"$f":"IF(B64>Formulario!$F$20,0,PMT((Formulario!$F$19),Formulario!$F$20,-Formulario!$F$34))","v":0},0,{"$f":"T63*Formulario!$F$19","v":0},0]
[null,61,null,{"$f":"-(G65+IF(B65>Formulario!$F$20,0,($P$4/Formulario!$F$20)))","v":0},{"$f":"-IF(B65>Formulario!$F$20,0,(G65+($P$4/Formulario!$F$20)))","v":0},null,{"$f":"IF(B65>Formulario!$F$20,0,PMT((Formulario!$F$19),Formulario!$F$20,-Formulario!$F$18))","v":0},8.8087672570948711E-9,{"$f":"H64*Formulario!$F$19","v":6.9910851246784697E-11},-6.9910851246784697E-11,{"$f":"IF(B65>Formulario!$F$20,0,PMT((Formulario!$F$19),Formulario!$F$20,-Formulario!$F$24))","v":0},0,{"$f":"L64*Formulario!$F$19","v":0},0,{"$f":"IF(B65>Formulario!$F$20,0,PMT((Formulario!$F$19),Formulario!$F$20,-Formulario!$F$33))","v":0},-1.0655766843259922E-10,{"$f":"P64*Formulario!$F$19","v":-8.4569578121110495E-13},8.4569578121110495E-13,{"$f":"IF(B65>Formulario!$F$20,0,PMT((Formulario!$F$19),Formulario!$F$20,-Formulario!$F$34))","v":0},0,{"$f":"T64*Formulario!$F$19","v":0},0]
[null,62,null,{"$f":"-(G66+IF(B66>Formulario!$F$20,0,($P$4/Formulario!$F$20)))","v":0},{"$f":"-IF(B66>Formulario!$F$20,0,(G66+($P$4/Formulario!$F$20)))","v":0},null,{"$f":"IF(B66>Formulario!$F$20,0,PMT((Formulario!$F$19),Formulario!$F$20,-Formulario!$F$18))","v":0},8.8792373951516306E-9,{"$f":"H65*Formulario!$F$19","v":7.0470138056758968E-11},-7.0470138056758968E-11,{"$f":"IF(B66>Formulario!$F$20,0,PMT((Formulario!$F$19),Formulario!$F$20,-Formulario!$F$24))","v":0},0,{"$f":"L65*Formulario!$F$19","v":0},0,{"$f":"IF(B66>Formulario!$F$20,0,PMT((Formulario!$F$19),Formulario!$F$20,-Formulario!$F$33))","v":0},-1.0741012978006001E-10,{"$f":"P65*Formulario!$F$19","v":-8.5246134746079377E-13},8.5246134746079377E-13,{"$f":"IF(B66>Formulario!$F$20,0,PMT((Formulario!$F$19),Formulario!$F$20,-Formulario!$F$34))","v":0},0,{"$f":"T65*Formulario!$F$19","v":0},0]
[null,63,null,{"$f":"-(G67+IF(B67>Formulario!$F$20,0,($P$4/Formulario!$F$20)))","v":0},{"$f":"-IF(B67>Formulario!$F$20,0,(G67+($P$4/Formulario!$F$20)))","v":0},null,{"$f":"IF(B67>Formulario!$F$20,0,PMT((Formulario!$F$19),Formulario!$F$20,-Formulario!$F$18))","v":0},8.9502712943128433E-9,{"$f":"H66*Formulario!$F$19","v":7.103389916121305E-11},-7.103389916121305E-11,{"$f":"IF(B67>Formulario!$F$20,0,PMT((Formulario!$F$19),Formulario!$F$20,-Formulario!$F$24))","v":0},0,{"$f":"L66*Formulario!$F$19","v":0},0,{"$f":"IF(B67>Formulario!$F$20,0,PMT((Formulario!$F$19),Formulario!$F$20,-Formulario!$F$33))","v":0},-1.0826941081830049E-10,{"$f":"P66*Formulario!$F$19","v":-8.5928103824048007E-13},8.5928103824048007E-13,{"$f":"IF(B67>Formulario!$F$20,0,PMT((Formulario!$F$19),Formulario!$F$20,-Formulario!$F$34))","v":0},0,{"$f":"T66*Formulario!$F$19","v":0},0]
[null,64,null,{"$f":"-(G68+IF(B68>Formulario!$F$20,0,($P$4/Formulario!$F$20)))","v":0},{"$f":"-IF(B68>Formulario!$F$20,0,(G68+($P$4/Formulario!$F$20)))","v":0},null,{"$f":"IF(B68>Formulario!$F$20,0,PMT((Formulario!$F$19),Formulario!$F$20,-Formulario!$F$18))","v":0},9.0218734646673464E-9,{"$f":"H67*Formulario!$F$19","v":7.1602170354502743E-11},-7.1602170354502743E-11,{"$f":"IF(B68>Formulario!$F$20,0,PMT((Formulario!$F$19),Formulario!$F$20,-Formulario!$F$24))","v":0},0,{"$f":"L67*Formulario!$F$19","v":0},0,{"$f":"IF(B68>Formulario!$F$20,0,PMT((Formulario!$F$19),Formulario!$F$20,-Formulario!$F$33))","v":0},-1.091355661048469E-10,{"$f":"P67*Formulario!$F$19","v":-8.6615528654640396E-13},8.6615528654640396E-13,{"$f":"IF(B68>Formulario!$F$20,0,PMT((Formulario!$F$19),Formulario!$F$20,-Formulario!$F$34))","v":0},0,{"$f":"T67*Formulario!$F$19","v":0},0]
[null,65,null,{"$f":"-(G69+IF(B69>Formulario!$F$20,0,($P$4/Formulario!$F$20)))","v":0},{"$f":"-IF(B69>Formulario!$F$20,0,(G69+($P$4/Formulario!$F$20)))","v":0},null,{"$f":"IF(B69>Formulario!$F$20,0,PMT((Formulario!$F$19),Formulario!$F$20,-Formulario!$F$18))","v":0},9.0940484523846856E-9,{"$f":"H68*Formulario!$F$19","v":7.2174987717338767E-11},-7.2174987717338767E-11,{"$f":"IF(B69>Formulario!$F$20,0,PMT((Formulario!$F$19),Formulario!$F$20,-Formulario!$F$24))","v":0},0,{"$f":"L68*Formulario!$F$19","v":0},0,{"$f":"IF(B69>Formulario!$F$20,0,PMT((Formulario!$F$19),Formulario!$F$20,-Formulario!$F$33))","v":0},{"$f":"+P68-R69","v":-1.1000865063368567E-10},{"$f":"P68*Formulario!$F$19","v":-8.7308452883877522E-13},8.7308452883877522E-13,{"$f":"IF(B69>Formulario!$F$20,0,PMT((Formulario!$F$19),Formulario!$F$20,-Formulario!$F$34))","v":0},0,{"$f":"T68*Formulario!$F$19","v":0},{"$f":"IF($B$39=\"Prima Mes\",0,S69-U69)","v":0}]
[null,{"$f":"B69+1","v":66},null,{"$f":"-(G70+IF(B70>Formulario!$F$20,0,($P$4/Formulario!$F$20)))","v":0},{"$f":"-IF(B70>Formulario!$F$20,0,(G70+($P$4/Formulario!$F$20)))","v":0},null,{"$f":"IF(B70>Formulario!$F$20,0,PMT((Formulario!$F$19),Formulario!$F$20,-Formulario!$F$18))","v":0},{"$f":"+H69-J70","v":9.1668008400037627E-9},{"$f":"H69*Formulario!$F$19","v":7.2752387619077489E-11},{"$f":"+G70-I70","v":-7.2752387619077489E-11},{"$f":"IF(B70>Formulario!$F$20,0,PMT((Formulario!$F$19),Formulario!$F$20,-Formulario!$F$24))","v":0},{"$f":"+L69-N70","v":0},{"$f":"L69*Formulario!$F$19","v":0},{"$f":"+K70-M70","v":0},{"$f":"IF(B70>Formulario!$F$20,0,PMT((Formulario!$F$19),Formulario!$F$20,-Formulario!$F$33))","v":0},-1.1088871983875515E-10,{"$f":"P69*Formulario!$F$19","v":-8.8006920506948538E-13},{"$f":"+O70-Q70","v":8.8006920506948538E-13},{"$f":"IF(B70>Formulario!$F$20,0,PMT((Formulario!$F$19),Formulario!$F$20,-Formulario!$F$34))","v":0},{"$f":"IF(B70>$B$16,0,IF($B$39=\"Prima Mes\",0,IF($B$39=\"Prima Anual\",IF(AND(B70<12,OR(B70=0,B70=12,B70=24,B70=36,B70=48,B70=60,B70=72)),$B$41,T69-V70),IF(B70=0,$B$41,T69-V70))))","v":0},{"$f":"T69*Formulario!$F$19","v":0},0]
[null,67,null,{"$f":"-(G71+IF(B71>Formulario!$F$20,0,($P$4/Formulario!$F$20)))","v":0},{"$f":"-IF(B71>Formulario!$F$20,0,(G71+($P$4/Formulario!$F$20)))","v":0},null,{"$f":"IF(B71>Formulario!$F$20,0,PMT((Formulario!$F$19),Formulario!$F$20,-Formulario!$F$18))","v":0},9.240135246723792E-9,{"$f":"H70*Formulario!$F$19","v":7.3334406720030109E-11},-7.3334406720030109E-11,{"$f":"IF(B71>Formulario!$F$20,0,PMT((Formulario!$F$19),Formulario!$F$20,-Formulario!$F$24))","v":0},0,{"$f":"L70*Formulario!$F$19","v":0},0,{"$f":"IF(B71>Formulario!$F$20,0,PMT((Formulario!$F$19),Formulario!$F$20,-Formulario!$F$33))","v":0},-1.1177582959746519E-10,{"$f":"P70*Formulario!$F$19","v":-8.871097587100412E-13},8.871097587100412E-13,{"$f":"IF(B71>Formulario!$F$20,0,PMT((Formulario!$F$19),Formulario!$F$20,-Formulario!$F$34))","v":0},0,{"$f":"T70*Formulario!$F$19","v":0},0]
[null,68,null,{"$f":"-(G72+IF(B72>Formulario!$F$20,0,($P$4/Formulario!$F$20)))","v":0},{"$f":"-IF(B72>Formulario!$F$20,0,(G72+($P$4/Formulario!$F$20)))","v":0},null,{"$f":"IF(B72>Formulario!$F$20,0,PMT((Formulario!$F$19),Formulario!$F$20,-Formulario!$F$18))","v":0},9.3140563286975818E-9,{"$f":"H71*Formulario!$F$19","v":7.3921081973790336E-11},-7.3921081973790336E-11,{"$f":"IF(B72>Formulario!$F$20,0,PMT((Formulario!$F$19),Formulario!$F$20,-Formulario!$F$24))","v":0},0,{"$f":"L71*Formulario!$F$19","v":0},0,{"$f":"IF(B72>Formulario!$F$20,0,PMT((Formulario!$F$19),Formulario!$F$20,-Formulario!$F$33))","v":0},-1.1267003623424491E-10,{"$f":"P71*Formulario!$F$19","v":-8.9420663677972154E-13},8.9420663677972154E-13,{"$f":"IF(B72>Formulario!$F$20,0,PMT((Formulario!$F$19),Formulario!$F$20,-Formulario!$F$34))","v":0},0,{"$f":"T71*Formulario!$F$19","v":0},0]
[null,69,null,{"$f":"-(G73+IF(B73>Formulario!$F$20,0,($P$4/Formulario!$F$20)))","v":0},{"$f":"-IF(B73>Formulario!$F$20,0,(G73+($P$4/Formulario!$F$20)))","v":0},null,{"$f":"IF(B73>Formulario!$F$20,0,PMT((Formulario!$F$19),Formulario!$F$20,-Formulario!$F$18))","v":0},9.3885687793271621E-9,{"$f":"H72*Formulario!$F$19","v":7.451245062958066E-11},-7.451245062958066E-11,{"$f":"IF(B73>Formulario!$F$20,0,PMT((Formulario!$F$19),Formulario!$F$20,-Formulario!$F$24))","v":0},0,{"$f":"L72*Formulario!$F$19","v":0},0,{"$f":"IF(B73>Formulario!$F$20,0,PMT((Formulario!$F$19),Formulario!$F$20,-Formulario!$F$33))","v":0},-1.1357139652411887E-10,{"$f":"P72*Formulario!$F$19","v":-9.0136028987395936E-13},9.0136028987395936E-13,{"$f":"IF(B73>Formulario!$F$20,0,PMT((Formulario!$F$19),Formulario!$F$20,-Formulario!$F$34))","v":0},0,{"$f":"T72*Formulario!$F$19","v":0},0]
[null,70,null,{"$f":"-(G74+IF(B74>Formulario!$F$20,0,($P$4/Formulario!$F$20)))","v":0},{"$f":"-IF(B74>Formulario!$F$20,0,(G74+($P$4/Formulario!$F$20)))","v":0},null,{"$f":"IF(B74>Formulario!$F$20,0,PMT((Formulario!$F$19),Formulario!$F$20,-Formulario!$F$18))","v":0},9.46367732956178E-9,{"$f":"H73*Formulario!$F$19","v":7.5108550234617298E-11},-7.5108550234617298E-11,{"$f":"IF(B74>Formulario!$F$20,0,PMT((Formulario!$F$19),Formulario!$F$20,-Formulario!$F$24))","v":0},0,{"$f":"L73*Formulario!$F$19","v":0},0,{"$f":"IF(B74>Formulario!$F$20,0,PMT((Formulario!$F$19),Formulario!$F$20,-Formulario!$F$33))","v":0},-1.1447996769631183E-10,{"$f":"P73*Formulario!$F$19","v":-9.0857117219295099E-13},9.0857117219295099E-13,{"$f":"IF(B74>Formulario!$F$20,0,PMT((Formulario!$F$19),Formulario!$F$20,-Formulario!$F$34))","v":0},0,{"$f":"T73*Formulario!$F$19","v":0},0]
[null,71,null,{"$f":"-(G75+IF(B75>Formulario!$F$20,0,($P$4/Formulario!$F$20)))","v":0},{"$f":"-IF(B75>Formulario!$F$20,0,(G75+($P$4/Formulario!$F$20)))","v":0},null,{"$f":"IF(B75>Formulario!$F$20,0,PMT((Formulario!$F$19),Formulario!$F$20,-Formulario!$F$18))","v":0},9.5393867481982735E-9,{"$f":"H74*Formulario!$F$19","v":7.5709418636494236E-11},-7.5709418636494236E-11,{"$f":"IF(B75>Formulario!$F$20,0,PMT((Formulario!$F$19),Formulario!$F$20,-Formulario!$F$24))","v":0},0,{"$f":"L74*Formulario!$F$19","v":0},0,{"$f":"IF(B75>Formulario!$F$20,0,PMT((Formulario!$F$19),Formulario!$F$20,-Formulario!$F$33))","v":0},-1.1539580743788233E-10,{"$f":"P74*Formulario!$F$19","v":-9.1583974157049472E-13},9.1583974157049472E-13,{"$f":"IF(B75>Formulario!$F$20,0,PMT((Formulario!$F$19),Formulario!$F$20,-Formulario!$F$34))","v":0},0,{"$f":"T74*Formulario!$F$19","v":0},0]
[null,72,null,{"$f":"-(G76+IF(B76>Formulario!$F$20,0,($P$4/Formulario!$F$20)))","v":0},{"$f":"-IF(B76>Formulario!$F$20,0,(G76+($P$4/Formulario!$F$20)))","v":0},null,{"$f":"IF(B76>Formulario!$F$20,0,PMT((Formulario!$F$19),Formulario!$F$20,-Formulario!$F$18))","v":0},9.6157018421838595E-9,{"$f":"H75*Formulario!$F$19","v":7.6315093985586184E-11},-7.6315093985586184E-11,{"$f":"IF(B76>Formulario!$F$20,0,PMT((Formulario!$F$19),Formulario!$F$20,-Formulario!$F$24))","v":0},0,{"$f":"L75*Formulario!$F$19","v":0},0,{"$f":"IF(B76>Formulario!$F$20,0,PMT((Formulario!$F$19),Formulario!$F$20,-Formulario!$F$33))","v":0},-1.1631897389738538E-10,{"$f":"P75*Formulario!$F$19","v":-9.2316645950305857E-13},9.2316645950305857E-13,{"$f":"IF(B76>Formulario!$F$20,0,PMT((Formulario!$F$19),Formulario!$F$20,-Formulario!$F$34))","v":0},0,{"$f":"T75*Formulario!$F$19","v":0},0]
[null,73,null,{"$f":"-(G77+IF(B77>Formulario!$F$20,0,($P$4/Formulario!$F$20)))","v":0},{"$f":"-IF(B77>Formulario!$F$20,0,(G77+($P$4/Formulario!$F$20)))","v":0},null,{"$f":"IF(B77>Formulario!$F$20,0,PMT((Formulario!$F$19),Formulario!$F$20,-Formulario!$F$18))","v":0},9.6926274569213302E-9,{"$f":"H76*Formulario!$F$19","v":7.6925614737470873E-11},-7.6925614737470873E-11,{"$f":"IF(B77>Formulario!$F$20,0,PMT((Formulario!$F$19),Formulario!$F$20,-Formulario!$F$24))","v":0},0,{"$f":"L76*Formulario!$F$19","v":0},0,{"$f":"IF(B77>Formulario!$F$20,0,PMT((Formulario!$F$19),Formulario!$F$20,-Formulario!$F$33))","v":0},-1.1724952568856446E-10,{"$f":"P76*Formulario!$F$19","v":-9.3055179117908301E-13},9.3055179117908301E-13,{"$f":"IF(B77>Formulario!$F$20,0,PMT((Formulario!$F$19),Formulario!$F$20,-Formulario!$F$34))","v":0},0,{"$f":"T76*Formulario!$F$19","v":0},0]
[null,74,null,{"$f":"-(G78+IF(B78>Formulario!$F$20,0,($P$4/Formulario!$F$20)))","v":0},{"$f":"-IF(B78>Formulario!$F$20,0,(G78+($P$4/Formulario!$F$20)))","v":0},null,{"$f":"IF(B78>Formulario!$F$20,0,PMT((Formulario!$F$19),Formulario!$F$20,-Formulario!$F$18))","v":0},9.7701684765767017E-9,{"$f":"H77*Formulario!$F$19","v":7.7541019655370648E-11},-7.7541019655370648E-11,{"$f":"IF(B78>Formulario!$F$20,0,PMT((Formulario!$F$19),Formulario!$F$20,-Formulario!$F$24))","v":0},0,{"$f":"L77*Formulario!$F$19","v":0},0,{"$f":"IF(B78>Formulario!$F$20,0,PMT((Formulario!$F$19),Formulario!$F$20,-Formulario!$F$33))","v":0},-1.1818752189407297E-10,{"$f":"P77*Formulario!$F$19","v":-9.3799620550851566E-13},9.3799620550851566E-13,{"$f":"IF(B78>Formulario!$F$20,0,PMT((Formulario!$F$19),Formulario!$F$20,-Formulario!$F$34))","v":0},0,{"$f":"T77*Formulario!$F$19","v":0},0]
[null,75,null,{"$f":"-(G79+IF(B79>Formulario!$F$20,0,($P$4/Formulario!$F$20)))","v":0},{"$f":"-IF(B79>Formulario!$F$20,0,(G79+($P$4/Formulario!$F$20)))","v":0},null,{"$f":"IF(B79>Formulario!$F$20,0,PMT((Formulario!$F$19),Formulario!$F$20,-Formulario!$F$18))","v":0},9.8483298243893153E-9,{"$f":"H78*Formulario!$F$19","v":7.8161347812613613E-11},-7.8161347812613613E-11,{"$f":"IF(B79>Formulario!$F$20,0,PMT((Formulario!$F$19),Formulario!$F$20,-Formulario!$F$24))","v":0},0,{"$f":"L78*Formulario!$F$19","v":0},0,{"$f":"IF(B79>Formulario!$F$20,0,PMT((Formulario!$F$19),Formulario!$F$20,-Formulario!$F$33))","v":0},-1.1913302206922556E-10,{"$f":"P78*Formulario!$F$19","v":-9.4550017515258378E-13},9.4550017515258378E-13,{"$f":"IF(B79>Formulario!$F$20,0,PMT((Formulario!$F$19),Formulario!$F$20,-Formulario!$F$34))","v":0},0,{"$f":"T78*Formulario!$F$19","v":0},0]
[null,76,null,{"$f":"-(G80+IF(B80>Formulario!$F$20,0,($P$4/Formulario!$F$20)))","v":0},{"$f":"-IF(B80>Formulario!$F$20,0,(G80+($P$4/Formulario!$F$20)))","v":0},null,{"$f":"IF(B80>Formulario!$F$20,0,PMT((Formulario!$F$19),Formulario!$F$20,-Formulario!$F$18))","v":0},9.9271164629844295E-9,{"$f":"H79*Formulario!$F$19","v":7.8786638595114528E-11},-7.8786638595114528E-11,{"$f":"IF(B80>Formulario!$F$20,0,PMT((Formulario!$F$19),Formulario!$F$20,-Formulario!$F$24))","v":0},0,{"$f":"L79*Formulario!$F$19","v":0},0,{"$f":"IF(B80>Formulario!$F$20,0,PMT((Formulario!$F$19),Formulario!$F$20,-Formulario!$F$33))","v":0},-1.2008608624577937E-10,{"$f":"P79*Formulario!$F$19","v":-9.5306417655380442E-13},9.5306417655380442E-13,{"$f":"IF(B80>Formulario!$F$20,0,PMT((Formulario!$F$19),Formulario!$F$20,-Formulario!$F$34))","v":0},0,{"$f":"T79*Formulario!$F$19","v":0},0]
[null,77,null,{"$f":"-(G81+IF(B81>Formulario!$F$20,0,($P$4/Formulario!$F$20)))","v":0},{"$f":"-IF(B81>Formulario!$F$20,0,(G81+($P$4/Formulario!$F$20)))","v":0},null,{"$f":"IF(B81>Formulario!$F$20,0,PMT((Formulario!$F$19),Formulario!$F$20,-Formulario!$F$18))","v":0},1.0006533394688304E-8,{"$f":"H80*Formulario!$F$19","v":7.9416931703875436E-11},-7.9416931703875436E-11,{"$f":"IF(B81>Formulario!$F$20,0,PMT((Formulario!$F$19),Formulario!$F$20,-Formulario!$F$24))","v":0},0,{"$f":"L80*Formulario!$F$19","v":0},0,{"$f":"IF(B81>Formulario!$F$20,0,PMT((Formulario!$F$19),Formulario!$F$20,-Formulario!$F$33))","v":0},-1.2104677493574561E-10,{"$f":"P80*Formulario!$F$19","v":-9.6068868996623503E-13},9.6068868996623503E-13,{"$f":"IF(B81>Formulario!$F$20,0,PMT((Formulario!$F$19),Formulario!$F$20,-Formulario!$F$34))","v":0},0,{"$f":"T80*Formulario!$F$19","v":0},0]
[null,78,null,{"$f":"-(G82+IF(B82>Formulario!$F$20,0,($P$4/Formulario!$F$20)))","v":0},{"$f":"-IF(B82>Formulario!$F$20,0,(G82+($P$4/Formulario!$F$20)))","v":0},null,{"$f":"IF(B82>Formulario!$F$20,0,PMT((Formulario!$F$19),Formulario!$F$20,-Formulario!$F$18))","v":0},1.0086585661845811E-8,{"$f":"H81*Formulario!$F$19","v":8.005226715750644E-11},-8.005226715750644E-11,{"$f":"IF(B82>Formulario!$F$20,0,PMT((Formulario!$F$19),Formulario!$F$20,-Formulario!$F$24))","v":0},0,{"$f":"L81*Formulario!$F$19","v":0},0,{"$f":"IF(B82>Formulario!$F$20,0,PMT((Formulario!$F$19),Formulario!$F$20,-Formulario!$F$33))","v":0},-1.2201514913523156E-10,{"$f":"P81*Formulario!$F$19","v":-9.6837419948596485E-13},9.6837419948596485E-13,{"$f":"IF(B82>Formulario!$F$20,0,PMT((Formulario!$F$19),Formulario!$F$20,-Formulario!$F$34))","v":0},0,{"$f":"T81*Formulario!$F$19","v":0},0]
[null,79,null,{"$f":"-(G83+IF(B83>Formulario!$F$20,0,($P$4/Formulario!$F$20)))","v":0},{"$f":"-IF(B83>Formulario!$F$20,0,(G83+($P$4/Formulario!$F$20)))","v":0},null,{"$f":"IF(B83>Formulario!$F$20,0,PMT((Formulario!$F$19),Formulario!$F$20,-Formulario!$F$18))","v":0},1.0167278347140577E-8,{"$f":"H82*Formulario!$F$19","v":8.0692685294766484E-11},-8.0692685294766484E-11,{"$f":"IF(B83>Formulario!$F$20,0,PMT((Formulario!$F$19),Formulario!$F$20,-Formulario!$F$24))","v":0},0,{"$f":"L82*Formulario!$F$19","v":0},0,{"$f":"IF(B83>Formulario!$F$20,0,PMT((Formulario!$F$19),Formulario!$F$20,-Formulario!$F$33))","v":0},-1.2299127032831342E-10,{"$f":"P82*Formulario!$F$19","v":-9.761211930818525E-13},9.761211930818525E-13,{"$f":"IF(B83>Formulario!$F$20,0,PMT((Formulario!$F$19),Formulario!$F$20,-Formulario!$F$34))","v":0},0,{"$f":"T82*Formulario!$F$19","v":0},0]
[null,80,null,{"$f":"-(G84+IF(B84>Formulario!$F$20,0,($P$4/Formulario!$F$20)))","v":0},{"$f":"-IF(B84>Formulario!$F$20,0,(G84+($P$4/Formulario!$F$20)))","v":0},null,{"$f":"IF(B84>Formulario!$F$20,0,PMT((Formulario!$F$19),Formulario!$F$20,-Formulario!$F$18))","v":0},1.0248616573917701E-8,{"$f":"H83*Formulario!$F$19","v":8.1338226777124615E-11},-8.1338226777124615E-11,{"$f":"IF(B84>Formulario!$F$20,0,PMT((Formulario!$F$19),Formulario!$F$20,-Formulario!$F$24))","v":0},0,{"$f":"L83*Formulario!$F$19","v":0},0,{"$f":"IF(B84>Formulario!$F$20,0,PMT((Formulario!$F$19),Formulario!$F$20,-Formulario!$F$33))","v":0},-1.2397520049093993E-10,{"$f":"P83*Formulario!$F$19","v":-9.8393016262650726E-13},9.8393016262650726E-13,{"$f":"IF(B84>Formulario!$F$20,0,PMT((Formulario!$F$19),Formulario!$F$20,-Formulario!$F$34))","v":0},0,{"$f":"T83*Formulario!$F$19","v":0},0]
[null,81,null,{"$f":"-(G85+IF(B85>Formulario!$F$20,0,($P$4/Formulario!$F$20)))","v":0},{"$f":"-IF(B85>Formulario!$F$20,0,(G85+($P$4/Formulario!$F$20)))","v":0},null,{"$f":"IF(B85>Formulario!$F$20,0,PMT((Formulario!$F$19),Formulario!$F$20,-Formulario!$F$18))","v":0},1.0330605506509043E-8,{"$f":"H84*Formulario!$F$19","v":8.1988932591341607E-11},-8.1988932591341607E-11,{"$f":"IF(B85>Formulario!$F$20,0,PMT((Formulario!$F$19),Formulario!$F$20,-Formulario!$F$24))","v":0},0,{"$f":"L84*Formulario!$F$19","v":0},0,{"$f":"IF(B85>Formulario!$F$20,0,PMT((Formulario!$F$19),Formulario!$F$20,-Formulario!$F$33))","v":0},-1.2496700209486745E-10,{"$f":"P84*Formulario!$F$19","v":-9.9180160392751937E-13},9.9180160392751937E-13,{"$f":"IF(B85>Formulario!$F$20,0,PMT((Formulario!$F$19),Formulario!$F$20,-Formulario!$F$34))","v":0},0,{"$f":"T84*Formulario!$F$19","v":0},0]
[null,82,null,{"$f":"-(G86+IF(B86>Formulario!$F$20,0,($P$4/Formulario!$F$20)))","v":0},{"$f":"-IF(B86>Formulario!$F$20,0,(G86+($P$4/Formulario!$F$20)))","v":0},null,{"$f":"IF(B86>Formulario!$F$20,0,PMT((Formulario!$F$19),Formulario!$F$20,-Formulario!$F$18))","v":0},1.0413250350561115E-8,{"$f":"H85*Formulario!$F$19","v":8.2644844052072341E-11},-8.2644844052072341E-11,{"$f":"IF(B86>Formulario!$F$20,0,PMT((Formulario!$F$19),Formulario!$F$20,-Formulario!$F$24))","v":0},0,{"$f":"L85*Formulario!$F$19","v":0},0,{"$f":"IF(B86>Formulario!$F$20,0,PMT((Formulario!$F$19),Formulario!$F$20,-Formulario!$F$33))","v":0},-1.2596673811162639E-10,{"$f":"P85*Formulario!$F$19","v":-9.9973601675893957E-13},9.9973601675893957E-13,{"$f":"IF(B86>Formulario!$F$20,0,PMT((Formulario!$F$19),Formulario!$F$20,-Formulario!$F$34))","v":0},0,{"$f":"T85*Formulario!$F$19","v":0},0]
[null,83,null,{"$f":"-(G87+IF(B87>Formulario!$F$20,0,($P$4/Formulario!$F$20)))","v":0},{"$f":"-IF(B87>Formulario!$F$20,0,(G87+($P$4/Formulario!$F$20)))","v":0},null,{"$f":"IF(B87>Formulario!$F$20,0,PMT((Formulario!$F$19),Formulario!$F$20,-Formulario!$F$18))","v":0},1.0496556353365604E-8,{"$f":"H86*Formulario!$F$19","v":8.3306002804488916E-11},-8.3306002804488916E-11,{"$f":"IF(B87>Formulario!$F$20,0,PMT((Formulario!$F$19),Formulario!$F$20,-Formulario!$F$24))","v":0},0,{"$f":"L86*Formulario!$F$19","v":0},0,{"$f":"IF(B87>Formulario!$F$20,0,PMT((Formulario!$F$19),Formulario!$F$20,-Formulario!$F$33))","v":0},-1.2697447201651939E-10,{"$f":"P86*Formulario!$F$19","v":-1.0077339048930112E-12},1.0077339048930112E-12,{"$f":"IF(B87>Formulario!$F$20,0,PMT((Formulario!$F$19),Formulario!$F$20,-Formulario!$F$34))","v":0},0,{"$f":"T86*Formulario!$F$19","v":0},0]
[null,84,null,{"$f":"-(G88+IF(B88>Formulario!$F$20,0,($P$4/Formulario!$F$20)))","v":0},{"$f":"-IF(B88>Formulario!$F$20,0,(G88+($P$4/Formulario!$F$20)))","v":0},null,{"$f":"IF(B88>Formulario!$F$20,0,PMT((Formulario!$F$19),Formulario!$F$20,-Formulario!$F$18))","v":0},1.0580528804192529E-8,{"$f":"H87*Formulario!$F$19","v":8.3972450826924834E-11},-8.3972450826924834E-11,{"$f":"IF(B88>Formulario!$F$20,0,PMT((Formulario!$F$19),Formulario!$F$20,-Formulario!$F$24))","v":0},0,{"$f":"L87*Formulario!$F$19","v":0},0,{"$f":"IF(B88>Formulario!$F$20,0,PMT((Formulario!$F$19),Formulario!$F$20,-Formulario!$F$33))","v":0},-1.2799026779265156E-10,{"$f":"P87*Formulario!$F$19","v":-1.0157957761321552E-12},1.0157957761321552E-12,{"$f":"IF(B88>Formulario!$F$20,0,PMT((Formulario!$F$19),Formulario!$F$20,-Formulario!$F$34))","v":0},0,{"$f":"T87*Formulario!$F$19","v":0},0]
[null,85,null,{"$f":"-(G89+IF(B89>Formulario!$F$20,0,($P$4/Formulario!$F$20)))","v":0},{"$f":"-IF(B89>Formulario!$F$20,0,(G89+($P$4/Formulario!$F$20)))","v":0},null,{"$f":"IF(B89>Formulario!$F$20,0,PMT((Formulario!$F$19),Formulario!$F$20,-Formulario!$F$18))","v":0},1.066517303462607E-8,{"$f":"H88*Formulario!$F$19","v":8.4644230433540239E-11},-8.4644230433540239E-11,{"$f":"IF(B89>Formulario!$F$20,0,PMT((Formulario!$F$19),Formulario!$F$20,-Formulario!$F$24))","v":0},0,{"$f":"L88*Formulario!$F$19","v":0},0,{"$f":"IF(B89>Formulario!$F$20,0,PMT((Formulario!$F$19),Formulario!$F$20,-Formulario!$F$33))","v":0},-1.2901418993499276E-10,{"$f":"P88*Formulario!$F$19","v":-1.0239221423412124E-12},1.0239221423412124E-12,{"$f":"IF(B89>Formulario!$F$20,0,PMT((Formulario!$F$19),Formulario!$F$20,-Formulario!$F$34))","v":0},0,{"$f":"T88*Formulario!$F$19","v":0},0]
[null,86,null,{"$f":"-(G90+IF(B90>Formulario!$F$20,0,($P$4/Formulario!$F$20)))","v":0},{"$f":"-IF(B90>Formulario!$F$20,0,(G90+($P$4/Formulario!$F$20)))","v":0},null,{"$f":"IF(B90>Formulario!$F$20,0,PMT((Formulario!$F$19),Formulario!$F$20,-Formulario!$F$18))","v":0},1.075049441890308E-8,{"$f":"H89*Formulario!$F$19","v":8.5321384277008563E-11},-8.5321384277008563E-11,{"$f":"IF(B90>Formulario!$F$20,0,PMT((Formulario!$F$19),Formulario!$F$20,-Formulario!$F$24))","v":0},0,{"$f":"L89*Formulario!$F$19","v":0},0,{"$f":"IF(B90>Formulario!$F$20,0,PMT((Formulario!$F$19),Formulario!$F$20,-Formulario!$F$33))","v":0},-1.300463034544727E-10,{"$f":"P89*Formulario!$F$19","v":-1.032113519479942E-12},1.032113519479942E-12,{"$f":"IF(B90>Formulario!$F$20,0,PMT((Formulario!$F$19),Formulario!$F$20,-Formulario!$F$34))","v":0},0,{"$f":"T89*Formulario!$F$19","v":0},0]
[null,87,null,{"$f":"-(G91+IF(B91>Formulario!$F$20,0,($P$4/Formulario!$F$20)))","v":0},{"$f":"-IF(B91>Formulario!$F$20,0,(G91+($P$4/Formulario!$F$20)))","v":0},null,{"$f":"IF(B91>Formulario!$F$20,0,PMT((Formulario!$F$19),Formulario!$F$20,-Formulario!$F$18))","v":0},1.0836498374254305E-8,{"$f":"H90*Formulario!$F$19","v":8.6003955351224638E-11},-8.6003955351224638E-11,{"$f":"IF(B91>Formulario!$F$20,0,PMT((Formulario!$F$19),Formulario!$F$20,-Formulario!$F$24))","v":0},0,{"$f":"L90*Formulario!$F$19","v":0},0,{"$f":"IF(B91>Formulario!$F$20,0,PMT((Formulario!$F$19),Formulario!$F$20,-Formulario!$F$33))","v":0},-1.3108667388210848E-10,{"$f":"P90*Formulario!$F$19","v":-1.0403704276357815E-12},1.0403704276357815E-12,{"$f":"IF(B91>Formulario!$F$20,0,PMT((Formulario!$F$19),Formulario!$F$20,-Formulario!$F$34))","v":0},0,{"$f":"T90*Formulario!$F$19","v":0},0]
[null,88,null,{"$f":"-(G92+IF(B92>Formulario!$F$20,0,($P$4/Formulario!$F$20)))","v":0},{"$f":"-IF(B92>Formulario!$F$20,0,(G92+($P$4/Formulario!$F$20)))","v":0},null,{"$f":"IF(B92>Formulario!$F$20,0,PMT((Formulario!$F$19),Formulario!$F$20,-Formulario!$F$18))","v":0},1.0923190361248339E-8,{"$f":"H91*Formulario!$F$19","v":8.6691986994034441E-11},-8.6691986994034441E-11,{"$f":"IF(B92>Formulario!$F$20,0,PMT((Formulario!$F$19),Formulario!$F$20,-Formulario!$F$24))","v":0},0,{"$f":"L91*Formulario!$F$19","v":0},0,{"$f":"IF(B92>Formulario!$F$20,0,PMT((Formulario!$F$19),Formulario!$F$20,-Formulario!$F$33))","v":0},-1.3213536727316535E-10,{"$f":"P91*Formulario!$F$19","v":-1.0486933910568679E-12},1.0486933910568679E-12,{"$f":"IF(B92>Formulario!$F$20,0,PMT((Formulario!$F$19),Formulario!$F$20,-Formulario!$F$34))","v":0},0,{"$f":"T91*Formulario!$F$19","v":0},0]
[null,89,null,{"$f":"-(G93+IF(B93>Formulario!$F$20,0,($P$4/Formulario!$F$20)))","v":0},{"$f":"-IF(B93>Formulario!$F$20,0,(G93+($P$4/Formulario!$F$20)))","v":0},null,{"$f":"IF(B93>Formulario!$F$20,0,PMT((Formulario!$F$19),Formulario!$F$20,-Formulario!$F$18))","v":0},1.1010575884138326E-8,{"$f":"H92*Formulario!$F$19","v":8.7385522889986712E-11},-8.7385522889986712E-11,{"$f":"IF(B93>Formulario!$F$20,0,PMT((Formulario!$F$19),Formulario!$F$20,-Formulario!$F$24))","v":0},0,{"$f":"L92*Formulario!$F$19","v":0},0,{"$f":"IF(B93>Formulario!$F$20,0,PMT((Formulario!$F$19),Formulario!$F$20,-Formulario!$F$33))","v":0},-1.3319245021135068E-10,{"$f":"P92*Formulario!$F$19","v":-1.0570829381853228E-12},1.0570829381853228E-12,{"$f":"IF(B93>Formulario!$F$20,0,PMT((Formulario!$F$19),Formulario!$F$20,-Formulario!$F$34))","v":0},0,{"$f":"T92*Formulario!$F$19","v":0},0]
[null,90,null,{"$f":"-(G94+IF(B94>Formulario!$F$20,0,($P$4/Formulario!$F$20)))","v":0},{"$f":"-IF(B94>Formulario!$F$20,0,(G94+($P$4/Formulario!$F$20)))","v":0},null,{"$f":"IF(B94>Formulario!$F$20,0,PMT((Formulario!$F$19),Formulario!$F$20,-Formulario!$F$18))","v":0},1.1098660491211433E-8,{"$f":"H93*Formulario!$F$19","v":8.8084607073106608E-11},-8.8084607073106608E-11,{"$f":"IF(B94>Formulario!$F$20,0,PMT((Formulario!$F$19),Formulario!$F$20,-Formulario!$F$24))","v":0},0,{"$f":"L93*Formulario!$F$19","v":0},0,{"$f":"IF(B94>Formulario!$F$20,0,PMT((Formulario!$F$19),Formulario!$F$20,-Formulario!$F$33))","v":0},-1.3425798981304149E-10,{"$f":"P93*Formulario!$F$19","v":-1.0655396016908055E-12},1.0655396016908055E-12,{"$f":"IF(B94>Formulario!$F$20,0,PMT((Formulario!$F$19),Formulario!$F$20,-Formulario!$F$34))","v":0},0,{"$f":"T93*Formulario!$F$19","v":0},0]
[null,91,null,{"$f":"-(G95+IF(B95>Formulario!$F$20,0,($P$4/Formulario!$F$20)))","v":0},{"$f":"-IF(B95>Formulario!$F$20,0,(G95+($P$4/Formulario!$F$20)))","v":0},null,{"$f":"IF(B95>Formulario!$F$20,0,PMT((Formulario!$F$19),Formulario!$F$20,-Formulario!$F$18))","v":0},1.1187449775141124E-8,{"$f":"H94*Formulario!$F$19","v":8.8789283929691468E-11},-8.8789283929691468E-11,{"$f":"IF(B95>Formulario!$F$20,0,PMT((Formulario!$F$19),Formulario!$F$20,-Formulario!$F$24))","v":0},0,{"$f":"L94*Formulario!$F$19","v":0},0,{"$f":"IF(B95>Formulario!$F$20,0,PMT((Formulario!$F$19),Formulario!$F$20,-Formulario!$F$33))","v":0},-1.3533205373154582E-10,{"$f":"P94*Formulario!$F$19","v":-1.074063918504332E-12},1.074063918504332E-12,{"$f":"IF(B95>Formulario!$F$20,0,PMT((Formulario!$F$19),Formulario!$F$20,-Formulario!$F$34))","v":0},0,{"$f":"T94*Formulario!$F$19","v":0},0]
[null,92,null,{"$f":"-(G96+IF(B96>Formulario!$F$20,0,($P$4/Formulario!$F$20)))","v":0},{"$f":"-IF(B96>Formulario!$F$20,0,(G96+($P$4/Formulario!$F$20)))","v":0},null,{"$f":"IF(B96>Formulario!$F$20,0,PMT((Formulario!$F$19),Formulario!$F$20,-Formulario!$F$18))","v":0},1.1276949373342253E-8,{"$f":"H95*Formulario!$F$19","v":8.9499598201128994E-11},-8.9499598201128994E-11,{"$f":"IF(B96>Formulario!$F$20,0,PMT((Formulario!$F$19),Formulario!$F$20,-Formulario!$F$24))","v":0},0,{"$f":"L95*Formulario!$F$19","v":0},0,{"$f":"IF(B96>Formulario!$F$20,0,PMT((Formulario!$F$19),Formulario!$F$20,-Formulario!$F$33))","v":0},-1.3641471016139818E-10,{"$f":"P95*Formulario!$F$19","v":-1.0826564298523666E-12},1.0826564298523666E-12,{"$f":"IF(B96>Formulario!$F$20,0,PMT((Formulario!$F$19),Formulario!$F$20,-Formulario!$F$34))","v":0},0,{"$f":"T95*Formulario!$F$19","v":0},0]
[null,93,null,{"$f":"-(G97+IF(B97>Formulario!$F$20,0,($P$4/Formulario!$F$20)))","v":0},{"$f":"-IF(B97>Formulario!$F$20,0,(G97+($P$4/Formulario!$F$20)))","v":0},null,{"$f":"IF(B97>Formulario!$F$20,0,PMT((Formulario!$F$19),Formulario!$F$20,-Formulario!$F$18))","v":0},1.1367164968328991E-8,{"$f":"H96*Formulario!$F$19","v":9.0215594986738029E-11},-9.0215594986738029E-11,{"$f":"IF(B97>Formulario!$F$20,0,PMT((Formulario!$F$19),Formulario!$F$20,-Formulario!$F$24))","v":0},0,{"$f":"L96*Formulario!$F$19","v":0},0,{"$f":"IF(B97>Formulario!$F$20,0,PMT((Formulario!$F$19),Formulario!$F$20,-Formulario!$F$33))","v":0},-1.3750602784268936E-10,{"$f":"P96*Formulario!$F$19","v":-1.0913176812911855E-12},1.0913176812911855E-12,{"$f":"IF(B97>Formulario!$F$20,0,PMT((Formulario!$F$19),Formulario!$F$20,-Formulario!$F$34))","v":0},0,{"$f":"T96*Formulario!$F$19","v":0},0]
[null,94,null,{"$f":"-(G98+IF(B98>Formulario!$F$20,0,($P$4/Formulario!$F$20)))","v":0},{"$f":"-IF(B98>Formulario!$F$20,0,(G98+($P$4/Formulario!$F$20)))","v":0},null,{"$f":"IF(B98>Formulario!$F$20,0,PMT((Formulario!$F$19),Formulario!$F$20,-Formulario!$F$18))","v":0},1.1458102288075623E-8,{"$f":"H97*Formulario!$F$19","v":9.0937319746631931E-11},-9.0937319746631931E-11,{"$f":"IF(B98>Formulario!$F$20,0,PMT((Formulario!$F$19),Formulario!$F$20,-Formulario!$F$24))","v":0},0,{"$f":"L97*Formulario!$F$19","v":0},0,{"$f":"IF(B98>Formulario!$F$20,0,PMT((Formulario!$F$19),Formulario!$F$20,-Formulario!$F$33))","v":0},-1.3860607606543087E-10,{"$f":"P97*Formulario!$F$19","v":-1.1000482227415149E-12},1.1000482227415149E-12,{"$f":"IF(B98>Formulario!$F$20,0,PMT((Formulario!$F$19),Formulario!$F$20,-Formulario!$F$34))","v":0},0,{"$f":"T97*Formulario!$F$19","v":0},0]
[null,95,null,{"$f":"-(G99+IF(B99>Formulario!$F$20,0,($P$4/Formulario!$F$20)))","v":0},{"$f":"-IF(B99>Formulario!$F$20,0,(G99+($P$4/Formulario!$F$20)))","v":0},null,{"$f":"IF(B99>Formulario!$F$20,0,PMT((Formulario!$F$19),Formulario!$F$20,-Formulario!$F$18))","v":0},1.1549767106380227E-8,{"$f":"H98*Formulario!$F$19","v":9.1664818304604982E-11},-9.1664818304604982E-11,{"$f":"IF(B99>Formulario!$F$20,0,PMT((Formulario!$F$19),Formulario!$F$20,-Formulario!$F$24))","v":0},0,{"$f":"L98*Formulario!$F$19","v":0},0,{"$f":"IF(B99>Formulario!$F$20,0,PMT((Formulario!$F$19),Formulario!$F$20,-Formulario!$F$33))","v":0},-1.3971492467395432E-10,{"$f":"P98*Formulario!$F$19","v":-1.108848608523447E-12},1.108848608523447E-12,{"$f":"IF(B99>Formulario!$F$20,0,PMT((Formulario!$F$19),Formulario!$F$20,-Formulario!$F$34))","v":0},0,{"$f":"T98*Formulario!$F$19","v":0},0]
[null,96,null,{"$f":"-(G100+IF(B100>Formulario!$F$20,0,($P$4/Formulario!$F$20)))","v":0},{"$f":"-IF(B100>Formulario!$F$20,0,(G100+($P$4/Formulario!$F$20)))","v":0},null,{"$f":"IF(B100>Formulario!$F$20,0,PMT((Formulario!$F$19),Formulario!$F$20,-Formulario!$F$18))","v":0},1.1642165243231269E-8,{"$f":"H99*Formulario!$F$19","v":9.2398136851041822E-11},-9.2398136851041822E-11,{"$f":"IF(B100>Formulario!$F$20,0,PMT((Formulario!$F$19),Formulario!$F$20,-Formulario!$F$24))","v":0},0,{"$f":"L99*Formulario!$F$19","v":0},0,{"$f":"IF(B100>Formulario!$F$20,0,PMT((Formulario!$F$19),Formulario!$F$20,-Formulario!$F$33))","v":0},-1.4083264407134595E-10,{"$f":"P99*Formulario!$F$19","v":-1.1177193973916346E-12},1.1177193973916346E-12,{"$f":"IF(B100>Formulario!$F$20,0,PMT((Formulario!$F$19),Formulario!$F$20,-Formulario!$F$34))","v":0},0,{"$f":"T99*Formulario!$F$19","v":0},0]
[null,97,null,{"$f":"-(G101+IF(B101>Formulario!$F$20,0,($P$4/Formulario!$F$20)))","v":0},{"$f":"-IF(B101>Formulario!$F$20,0,(G101+($P$4/Formulario!$F$20)))","v":0},null,{"$f":"IF(B101>Formulario!$F$20,0,PMT((Formulario!$F$19),Formulario!$F$20,-Formulario!$F$18))","v":0},1.1735302565177118E-8,{"$f":"H100*Formulario!$F$19","v":9.3137321945850152E-11},-9.3137321945850152E-11,{"$f":"IF(B101>Formulario!$F$20,0,PMT((Formulario!$F$19),Formulario!$F$20,-Formulario!$F$24))","v":0},0,{"$f":"L100*Formulario!$F$19","v":0},0,{"$f":"IF(B101>Formulario!$F$20,0,PMT((Formulario!$F$19),Formulario!$F$20,-Formulario!$F$33))","v":0},-1.4195930522391671E-10,{"$f":"P100*Formulario!$F$19","v":-1.1266611525707677E-12},1.1266611525707677E-12,{"$f":"IF(B101>Formulario!$F$20,0,PMT((Formulario!$F$19),Formulario!$F$20,-Formulario!$F$34))","v":0},0,{"$f":"T100*Formulario!$F$19","v":0},0]
[null,98,null,{"$f":"-(G102+IF(B102>Formulario!$F$20,0,($P$4/Formulario!$F$20)))","v":0},{"$f":"-IF(B102>Formulario!$F$20,0,(G102+($P$4/Formulario!$F$20)))","v":0},null,{"$f":"IF(B102>Formulario!$F$20,0,PMT((Formulario!$F$19),Formulario!$F$20,-Formulario!$F$18))","v":0},1.1829184985698536E-8,{"$f":"H101*Formulario!$F$19","v":9.3882420521416948E-11},-9.3882420521416948E-11,{"$f":"IF(B102>Formulario!$F$20,0,PMT((Formulario!$F$19),Formulario!$F$20,-Formulario!$F$24))","v":0},0,{"$f":"L101*Formulario!$F$19","v":0},0,{"$f":"IF(B102>Formulario!$F$20,0,PMT((Formulario!$F$19),Formulario!$F$20,-Formulario!$F$33))","v":0},-1.4309497966570803E-10,{"$f":"P101*Formulario!$F$19","v":-1.1356744417913337E-12},1.1356744417913337E-12,{"$f":"IF(B102>Formulario!$F$20,0,PMT((Formulario!$F$19),Formulario!$F$20,-Formulario!$F$34))","v":0},0,{"$f":"T101*Formulario!$F$19","v":0},0]
[null,99,null,{"$f":"-(G103+IF(B103>Formulario!$F$20,0,($P$4/Formulario!$F$20)))","v":0},{"$f":"-IF(B103>Formulario!$F$20,0,(G103+($P$4/Formulario!$F$20)))","v":0},null,{"$f":"IF(B103>Formulario!$F$20,0,PMT((Formulario!$F$19),Formulario!$F$20,-Formulario!$F$18))","v":0},1.1923818465584125E-8,{"$f":"H102*Formulario!$F$19","v":9.4633479885588287E-11},-9.4633479885588287E-11,{"$f":"IF(B103>Formulario!$F$20,0,PMT((Formulario!$F$19),Formulario!$F$20,-Formulario!$F$24))","v":0},0,{"$f":"L102*Formulario!$F$19","v":0},0,{"$f":"IF(B103>Formulario!$F$20,0,PMT((Formulario!$F$19),Formulario!$F$20,-Formulario!$F$33))","v":0},-1.442397395030337E-10,{"$f":"P102*Formulario!$F$19","v":-1.1447598373256644E-12},1.1447598373256644E-12,{"$f":"IF(B103>Formulario!$F$20,0,PMT((Formulario!$F$19),Formulario!$F$20,-Formulario!$F$34))","v":0},0,{"$f":"T102*Formulario!$F$19","v":0},0]
[null,100,null,{"$f":"-(G104+IF(B104>Formulario!$F$20,0,($P$4/Formulario!$F$20)))","v":0},{"$f":"-IF(B104>Formulario!$F$20,0,(G104+($P$4/Formulario!$F$20)))","v":0},null,{"$f":"IF(B104>Formulario!$F$20,0,PMT((Formulario!$F$19),Formulario!$F$20,-Formulario!$F$18))","v":0},1.2019209013308797E-8,{"$f":"H103*Formulario!$F$19","v":9.5390547724672997E-11},-9.5390547724672997E-11,{"$f":"IF(B104>Formulario!$F$20,0,PMT((Formulario!$F$19),Formulario!$F$20,-Formulario!$F$24))","v":0},0,{"$f":"L103*Formulario!$F$19","v":0},0,{"$f":"IF(B104>Formulario!$F$20,0,PMT((Formulario!$F$19),Formulario!$F$20,-Formulario!$F$33))","v":0},-1.4539365741905798E-10,{"$f":"P103*Formulario!$F$19","v":-1.1539179160242696E-12},1.1539179160242696E-12,{"$f":"IF(B104>Formulario!$F$20,0,PMT((Formulario!$F$19),Formulario!$F$20,-Formulario!$F$34))","v":0},0,{"$f":"T103*Formulario!$F$19","v":0},0]